BEGIN:VCALENDAR
VERSION:2.0
PRODID:-//FeLiveLife - ECPv6.15.12//NONSGML v1.0//EN
CALSCALE:GREGORIAN
METHOD:PUBLISH
X-WR-CALNAME:FeLiveLife
X-ORIGINAL-URL:https://felivelife.org
X-WR-CALDESC:Events for FeLiveLife
REFRESH-INTERVAL;VALUE=DURATION:PT1H
X-Robots-Tag:noindex
X-PUBLISHED-TTL:PT1H
BEGIN:VTIMEZONE
TZID:America/Chicago
BEGIN:DAYLIGHT
TZOFFSETFROM:-0600
TZOFFSETTO:-0500
TZNAME:CDT
DTSTART:20240310T080000
END:DAYLIGHT
BEGIN:STANDARD
TZOFFSETFROM:-0500
TZOFFSETTO:-0600
TZNAME:CST
DTSTART:20241103T070000
END:STANDARD
BEGIN:DAYLIGHT
TZOFFSETFROM:-0600
TZOFFSETTO:-0500
TZNAME:CDT
DTSTART:20250309T080000
END:DAYLIGHT
BEGIN:STANDARD
TZOFFSETFROM:-0500
TZOFFSETTO:-0600
TZNAME:CST
DTSTART:20251102T070000
END:STANDARD
BEGIN:DAYLIGHT
TZOFFSETFROM:-0600
TZOFFSETTO:-0500
TZNAME:CDT
DTSTART:20260308T080000
END:DAYLIGHT
BEGIN:STANDARD
TZOFFSETFROM:-0500
TZOFFSETTO:-0600
TZNAME:CST
DTSTART:20261101T070000
END:STANDARD
END:VTIMEZONE
BEGIN:VEVENT
DTSTART;TZID=America/Chicago:20251011T120000
DTEND;TZID=America/Chicago:20251011T200000
DTSTAMP:20260419T091014
CREATED:20250911T121617Z
LAST-MODIFIED:20250911T122043Z
UID:10006972-1760184000-1760212800@felivelife.org
SUMMARY:23rd Annual Mercer Pumpkin Run
DESCRIPTION:Who’s ready for the 23rd Annual Pumpkin Run!!! October 9th-12th\, 2025!The Annual Pumpkin Run ATV/UTV Rally is held in Mercer\, Wisconsin\, and takes place on all Iron County ATV/UTV trails and routes. The purpose of our rally is for participants to take part in a poker run\, making stops at different locations across all of the ATV/UTV Trails.The $20 registration fee includes a choice of one of two Poker Run Sheets. Both sheets may be purchased for $30 per rider.For More information or to register\, go to: https://www.mercerpumpkinrunrally.com \nThere’s so much going on during the Run!
URL:https://felivelife.org/event/23rd-annual-mercer-pumpkin-run/2025-10-11/
LOCATION:Iron County ATV Trails
CATEGORIES:Community Events,Entertainment,Outdoor & Recreation
ATTACH;FMTTYPE=image/jpeg:https://felivelife.org/wp-content/uploads/2025/09/pumpkin-rally-schedule.jpg
ORGANIZER;CN="Mercer Area Chamber of Commerce":MAILTO:info@mercercc.com
END:VEVENT
END:VCALENDAR