BEGIN:VCALENDAR
VERSION:2.0
PRODID:-//FeLiveLife - ECPv6.15.12//NONSGML v1.0//EN
CALSCALE:GREGORIAN
METHOD:PUBLISH
X-WR-CALNAME:FeLiveLife
X-ORIGINAL-URL:https://felivelife.org
X-WR-CALDESC:Events for FeLiveLife
REFRESH-INTERVAL;VALUE=DURATION:PT1H
X-Robots-Tag:noindex
X-PUBLISHED-TTL:PT1H
BEGIN:VTIMEZONE
TZID:America/Chicago
BEGIN:DAYLIGHT
TZOFFSETFROM:-0600
TZOFFSETTO:-0500
TZNAME:CDT
DTSTART:20250309T080000
END:DAYLIGHT
BEGIN:STANDARD
TZOFFSETFROM:-0500
TZOFFSETTO:-0600
TZNAME:CST
DTSTART:20251102T070000
END:STANDARD
BEGIN:DAYLIGHT
TZOFFSETFROM:-0600
TZOFFSETTO:-0500
TZNAME:CDT
DTSTART:20260308T080000
END:DAYLIGHT
BEGIN:STANDARD
TZOFFSETFROM:-0500
TZOFFSETTO:-0600
TZNAME:CST
DTSTART:20261101T070000
END:STANDARD
BEGIN:DAYLIGHT
TZOFFSETFROM:-0600
TZOFFSETTO:-0500
TZNAME:CDT
DTSTART:20270314T080000
END:DAYLIGHT
BEGIN:STANDARD
TZOFFSETFROM:-0500
TZOFFSETTO:-0600
TZNAME:CST
DTSTART:20271107T070000
END:STANDARD
END:VTIMEZONE
BEGIN:VEVENT
DTSTART;TZID=America/Chicago:20261011T090000
DTEND;TZID=America/Chicago:20261011T170000
DTSTAMP:20260419T113821
CREATED:20260301T154940Z
LAST-MODIFIED:20260301T154940Z
UID:10009888-1791709200-1791738000@felivelife.org
SUMMARY:24th Annual Pumpkin Run ATV/UTV Rally
DESCRIPTION: 24th Annual Pumpkin Run – October 8–11\, 2026! The Pumpkin Run ATV/UTV Rally is back for Columbus Day Weekend in beautiful Mercer\, Wisconsin — and we can’t wait to see you all there!\nHosted by the Mercer Area Chamber of Commerce\, this four-day rally takes place across all Iron County ATV/UTV trails and routes\, bringing riders together for a fun-filled weekend of adventure and community. Participants take part in a poker run\, making stops at locations across the trail system while enjoying the fall colors of the Northwoods.\nThis action-packed weekend includes: 4-Day Poker Run Great Pumpkin Parade Pumpkin Party Cash Prizes Raffles\nPoker sheets are $25 each or $35 for both (per rider).Ready to ride? Register at the Mercer Chamber office or online at: https://www.mercerpumpkinrunrally.com/Mark your calendars and plan to join us for one of Mercer’s favorite fall traditions! 
URL:https://felivelife.org/event/24th-annual-pumpkin-run-atv-utv-rally/2026-10-11/
LOCATION:Throughout Iron County
CATEGORIES:Community Events,Entertainment,Outdoor & Recreation
ATTACH;FMTTYPE=image/jpeg:https://felivelife.org/wp-content/uploads/2026/03/pumpkin-run-2026.jpg
ORGANIZER;CN="Mercer Area Chamber of Commerce":MAILTO:info@mercercc.com
END:VEVENT
END:VCALENDAR