BEGIN:VCALENDAR
VERSION:2.0
PRODID:-//FeLiveLife - ECPv6.15.12//NONSGML v1.0//EN
CALSCALE:GREGORIAN
METHOD:PUBLISH
X-WR-CALNAME:FeLiveLife
X-ORIGINAL-URL:https://felivelife.org
X-WR-CALDESC:Events for FeLiveLife
REFRESH-INTERVAL;VALUE=DURATION:PT1H
X-Robots-Tag:noindex
X-PUBLISHED-TTL:PT1H
BEGIN:VTIMEZONE
TZID:America/Chicago
BEGIN:DAYLIGHT
TZOFFSETFROM:-0600
TZOFFSETTO:-0500
TZNAME:CDT
DTSTART:20240310T080000
END:DAYLIGHT
BEGIN:STANDARD
TZOFFSETFROM:-0500
TZOFFSETTO:-0600
TZNAME:CST
DTSTART:20241103T070000
END:STANDARD
BEGIN:DAYLIGHT
TZOFFSETFROM:-0600
TZOFFSETTO:-0500
TZNAME:CDT
DTSTART:20250309T080000
END:DAYLIGHT
BEGIN:STANDARD
TZOFFSETFROM:-0500
TZOFFSETTO:-0600
TZNAME:CST
DTSTART:20251102T070000
END:STANDARD
BEGIN:DAYLIGHT
TZOFFSETFROM:-0600
TZOFFSETTO:-0500
TZNAME:CDT
DTSTART:20260308T080000
END:DAYLIGHT
BEGIN:STANDARD
TZOFFSETFROM:-0500
TZOFFSETTO:-0600
TZNAME:CST
DTSTART:20261101T070000
END:STANDARD
END:VTIMEZONE
BEGIN:VEVENT
DTSTART;TZID=America/Chicago:20251023T190000
DTEND;TZID=America/Chicago:20251023T203000
DTSTAMP:20260419T073509
CREATED:20251023T010228Z
LAST-MODIFIED:20251023T010228Z
UID:12330-1761246000-1761251400@felivelife.org
SUMMARY:Alumni Night @ GCC Men's Basketball
DESCRIPTION:Mark your calendars for Thursday\, 10/23 at 7pm to be at GCC to watch the Samsons men face off against Samsons alumni! \nFree admission to anyone who brings in a non-perishable food item to help us stock the student food pantry. \nIt’s always fun to watch Old School vs. New School!The game will be livestreamed herehttps://fan.hudl.com/…/organization/46905/gogebic-cc
URL:https://felivelife.org/event/alumni-night-gcc-mens-basketball/
LOCATION:Gogebic Community College Lindquist Center\, E4946 Jackson Road\, Ironwood\, MI\, 49938
CATEGORIES:Community Events
ATTACH;FMTTYPE=image/jpeg:https://felivelife.org/wp-content/uploads/2025/10/alumni-game-gcc.jpg
END:VEVENT
END:VCALENDAR