BEGIN:VCALENDAR
VERSION:2.0
PRODID:-//FeLiveLife - ECPv6.15.12//NONSGML v1.0//EN
CALSCALE:GREGORIAN
METHOD:PUBLISH
X-WR-CALNAME:FeLiveLife
X-ORIGINAL-URL:https://felivelife.org
X-WR-CALDESC:Events for FeLiveLife
REFRESH-INTERVAL;VALUE=DURATION:PT1H
X-Robots-Tag:noindex
X-PUBLISHED-TTL:PT1H
BEGIN:VTIMEZONE
TZID:America/Chicago
BEGIN:DAYLIGHT
TZOFFSETFROM:-0600
TZOFFSETTO:-0500
TZNAME:CDT
DTSTART:20250309T080000
END:DAYLIGHT
BEGIN:STANDARD
TZOFFSETFROM:-0500
TZOFFSETTO:-0600
TZNAME:CST
DTSTART:20251102T070000
END:STANDARD
BEGIN:DAYLIGHT
TZOFFSETFROM:-0600
TZOFFSETTO:-0500
TZNAME:CDT
DTSTART:20260308T080000
END:DAYLIGHT
BEGIN:STANDARD
TZOFFSETFROM:-0500
TZOFFSETTO:-0600
TZNAME:CST
DTSTART:20261101T070000
END:STANDARD
BEGIN:DAYLIGHT
TZOFFSETFROM:-0600
TZOFFSETTO:-0500
TZNAME:CDT
DTSTART:20270314T080000
END:DAYLIGHT
BEGIN:STANDARD
TZOFFSETFROM:-0500
TZOFFSETTO:-0600
TZNAME:CST
DTSTART:20271107T070000
END:STANDARD
END:VTIMEZONE
BEGIN:VEVENT
DTSTART;TZID=America/Chicago:20260506T090000
DTEND;TZID=America/Chicago:20260506T140000
DTSTAMP:20260422T042406
CREATED:20260415T201115Z
LAST-MODIFIED:20260415T201115Z
UID:17900-1778058000-1778076000@felivelife.org
SUMMARY:American Red Cross Blood Drive
DESCRIPTION:There will be an American Red Cross Blood Drive at the Wakefield Municipal Building on Wednesday\, May 6th from 9AM – 2 PM. \nStop in and save three lives!
URL:https://felivelife.org/event/american-red-cross-blood-drive-2/
LOCATION:Wakefield Municipal Building\, 509 Sunday Lake St.\, Wakefield\, MI\, 49968
CATEGORIES:Community Events
ATTACH;FMTTYPE=image/png:https://felivelife.org/wp-content/uploads/2026/04/Blood-Drives-9.png
END:VEVENT
END:VCALENDAR