BEGIN:VCALENDAR
VERSION:2.0
PRODID:-//FeLiveLife - ECPv6.15.12//NONSGML v1.0//EN
CALSCALE:GREGORIAN
METHOD:PUBLISH
X-WR-CALNAME:FeLiveLife
X-ORIGINAL-URL:https://felivelife.org
X-WR-CALDESC:Events for FeLiveLife
REFRESH-INTERVAL;VALUE=DURATION:PT1H
X-Robots-Tag:noindex
X-PUBLISHED-TTL:PT1H
BEGIN:VTIMEZONE
TZID:America/Chicago
BEGIN:DAYLIGHT
TZOFFSETFROM:-0600
TZOFFSETTO:-0500
TZNAME:CDT
DTSTART:20240310T080000
END:DAYLIGHT
BEGIN:STANDARD
TZOFFSETFROM:-0500
TZOFFSETTO:-0600
TZNAME:CST
DTSTART:20241103T070000
END:STANDARD
BEGIN:DAYLIGHT
TZOFFSETFROM:-0600
TZOFFSETTO:-0500
TZNAME:CDT
DTSTART:20250309T080000
END:DAYLIGHT
BEGIN:STANDARD
TZOFFSETFROM:-0500
TZOFFSETTO:-0600
TZNAME:CST
DTSTART:20251102T070000
END:STANDARD
BEGIN:DAYLIGHT
TZOFFSETFROM:-0600
TZOFFSETTO:-0500
TZNAME:CDT
DTSTART:20260308T080000
END:DAYLIGHT
BEGIN:STANDARD
TZOFFSETFROM:-0500
TZOFFSETTO:-0600
TZNAME:CST
DTSTART:20261101T070000
END:STANDARD
END:VTIMEZONE
BEGIN:VEVENT
DTSTART;VALUE=DATE:20250712
DTEND;VALUE=DATE:20250713
DTSTAMP:20260420T090043
CREATED:20250613T170943Z
LAST-MODIFIED:20250617T152127Z
UID:10004757-1752278400-1752364799@felivelife.org
SUMMARY:Art in the Park
DESCRIPTION:Art in the Park\n\nJune 28 – August 23\, 2025\nFree Event\nhttps://emberlight.org/event/art-in-the-park-2025/\n\nMiners Memorial Heritage Park\n771 E Ayer St.\nIronwood\, MI 49938\n\nArt in the Park is sponsored by the Gogebic Community College Foundation\, in memory of Alex Marciniak\nWHERE NATURE AND CREATIVITY COME TO LIFE\nEmberlight’s 2025 anniversary season begins on June 28 with the highly anticipated return of Art in the Park\, a celebration of creativity\, nature\, and community. This year’s collection of original outdoor artworks\, created by artists from across the Upper Midwest\, explores the theme “Cadences of Connection” as it examines the rhythms that unite us — from the pulse of human relationships to the harmony of art and the natural world.Bring the family for a walk orgrab a coffee with friends and stroll through the park. Nestled along the 1.2 mile Aurora Loop in the Miners Memorial Heritage Park\, these large-scale installations blend seamlessly with the beauty of the Northwoods\, offering a unique and immersive experience for all visitors. Art in the Park embodies Emberlight’s mission to make world-class art accessible to everyone\, inviting you to explore\, reflect\, and engage with these thought-provoking creations.And don’t forget — you get to vote! Cast your ballot online for your favorite piece\, and the winning artist will receive a $1\,000 prize!
URL:https://felivelife.org/event/art-in-the-park/2025-07-12/
LOCATION:Miners Memorial Heritage Park\, 775 E Ayer St\, Ironwood\, 49938
CATEGORIES:Arts & Culture,Community Events,Outdoor & Recreation
ATTACH;FMTTYPE=image/png:https://felivelife.org/wp-content/uploads/2025/06/art-in-the-park.png
ORGANIZER;CN="Emberlight Festival":MAILTO:media@emberlight.org
END:VEVENT
END:VCALENDAR