BEGIN:VCALENDAR
VERSION:2.0
PRODID:-//FeLiveLife - ECPv6.15.12//NONSGML v1.0//EN
CALSCALE:GREGORIAN
METHOD:PUBLISH
X-WR-CALNAME:FeLiveLife
X-ORIGINAL-URL:https://felivelife.org
X-WR-CALDESC:Events for FeLiveLife
REFRESH-INTERVAL;VALUE=DURATION:PT1H
X-Robots-Tag:noindex
X-PUBLISHED-TTL:PT1H
BEGIN:VTIMEZONE
TZID:America/Chicago
BEGIN:DAYLIGHT
TZOFFSETFROM:-0600
TZOFFSETTO:-0500
TZNAME:CDT
DTSTART:20240310T080000
END:DAYLIGHT
BEGIN:STANDARD
TZOFFSETFROM:-0500
TZOFFSETTO:-0600
TZNAME:CST
DTSTART:20241103T070000
END:STANDARD
BEGIN:DAYLIGHT
TZOFFSETFROM:-0600
TZOFFSETTO:-0500
TZNAME:CDT
DTSTART:20250309T080000
END:DAYLIGHT
BEGIN:STANDARD
TZOFFSETFROM:-0500
TZOFFSETTO:-0600
TZNAME:CST
DTSTART:20251102T070000
END:STANDARD
BEGIN:DAYLIGHT
TZOFFSETFROM:-0600
TZOFFSETTO:-0500
TZNAME:CDT
DTSTART:20260308T080000
END:DAYLIGHT
BEGIN:STANDARD
TZOFFSETFROM:-0500
TZOFFSETTO:-0600
TZNAME:CST
DTSTART:20261101T070000
END:STANDARD
END:VTIMEZONE
BEGIN:VEVENT
DTSTART;TZID=America/Chicago:20250927T100000
DTEND;TZID=America/Chicago:20250927T170000
DTSTAMP:20260420T071259
CREATED:20250914T123848Z
LAST-MODIFIED:20250914T123848Z
UID:11080-1758967200-1758992400@felivelife.org
SUMMARY:Calvin Kangas Memorial Ride
DESCRIPTION:The Gogebic Range Trail Authority will be having their annual Calvin Kangas Memorial Ride once again on Saturday\, September 27\, 2025.As most of you all know\, Calvin was one of a kind!! He was a man of many trades and there was no job too big or small for him! If it had to do with being outdoors\, you could always count on Calvin to help.They are partnering with Upper Peninsula Honor Flight to help raise money to send veterans to see memorials that stand in their honor.Although not required\, they would appreciate a $10.00 per person donation and or give what is in your means. All is going for a great cause!Many have asked going to a different destination. After discussing with others within their club\, GRTA feels that trail 160 will always be dedicated to Calvin. There is such beautiful scenery along the way and what a wonderful way to remember a long time friend!
URL:https://felivelife.org/event/calvin-kangas-memorial-ride/
LOCATION:Uncle Sam’s Bar\, East Mary Street 105\, Bessemer\, Michigan\, 49911
CATEGORIES:Community Events,Outdoor & Recreation
ATTACH;FMTTYPE=image/jpeg:https://felivelife.org/wp-content/uploads/2025/09/calvin-kangas.jpg
ORGANIZER;CN="Gogebic Range Trail Authority - ORV &amp%3B Snowmobile Club":MAILTO:info@gogebicrangeta.org
GEO:46.479962;-90.0520317
X-APPLE-STRUCTURED-LOCATION;VALUE=URI;X-ADDRESS=Uncle Sam’s Bar East Mary Street 105 Bessemer Michigan 49911;X-APPLE-RADIUS=500;X-TITLE=East Mary Street 105:geo:-90.0520317,46.479962
END:VEVENT
END:VCALENDAR