BEGIN:VCALENDAR
VERSION:2.0
PRODID:-//FeLiveLife - ECPv6.15.12//NONSGML v1.0//EN
CALSCALE:GREGORIAN
METHOD:PUBLISH
X-WR-CALNAME:FeLiveLife
X-ORIGINAL-URL:https://felivelife.org
X-WR-CALDESC:Events for FeLiveLife
REFRESH-INTERVAL;VALUE=DURATION:PT1H
X-Robots-Tag:noindex
X-PUBLISHED-TTL:PT1H
BEGIN:VTIMEZONE
TZID:America/Chicago
BEGIN:DAYLIGHT
TZOFFSETFROM:-0600
TZOFFSETTO:-0500
TZNAME:CDT
DTSTART:20240310T080000
END:DAYLIGHT
BEGIN:STANDARD
TZOFFSETFROM:-0500
TZOFFSETTO:-0600
TZNAME:CST
DTSTART:20241103T070000
END:STANDARD
BEGIN:DAYLIGHT
TZOFFSETFROM:-0600
TZOFFSETTO:-0500
TZNAME:CDT
DTSTART:20250309T080000
END:DAYLIGHT
BEGIN:STANDARD
TZOFFSETFROM:-0500
TZOFFSETTO:-0600
TZNAME:CST
DTSTART:20251102T070000
END:STANDARD
BEGIN:DAYLIGHT
TZOFFSETFROM:-0600
TZOFFSETTO:-0500
TZNAME:CDT
DTSTART:20260308T080000
END:DAYLIGHT
BEGIN:STANDARD
TZOFFSETFROM:-0500
TZOFFSETTO:-0600
TZNAME:CST
DTSTART:20261101T070000
END:STANDARD
END:VTIMEZONE
BEGIN:VEVENT
DTSTART;TZID=America/Chicago:20250906T160000
DTEND;TZID=America/Chicago:20250906T190000
DTSTAMP:20260421T031308
CREATED:20250724T122458Z
LAST-MODIFIED:20250724T122458Z
UID:9757-1757174400-1757185200@felivelife.org
SUMMARY:Chicken Dinner
DESCRIPTION:VFW Post 3673 is offering a delicious chicken dinner on Saturday\, September 6th from 4 – 7 PM. \nEither dine in or carry out the array of offering including:  BBQ or garlic baked chicken\, mashed potatoes and gravy\, corn on the cob\, veggies slaw\, Italian bread\, coffee\, and a dessert selection. \nThe cost is $12 for adults\, $6 for children ages 6 – 12\, and FREE for children 5 and under.
URL:https://felivelife.org/event/chicken-dinner/
LOCATION:Bessemer VFW Post 3673\, 605 W Lead St\, Bessemer\, MI\, 49911
CATEGORIES:Community Events,Fundraising
ATTACH;FMTTYPE=image/jpeg:https://felivelife.org/wp-content/uploads/2025/07/chicken-dinner.jpg
END:VEVENT
END:VCALENDAR