BEGIN:VCALENDAR
VERSION:2.0
PRODID:-//FeLiveLife - ECPv6.15.12//NONSGML v1.0//EN
CALSCALE:GREGORIAN
METHOD:PUBLISH
X-WR-CALNAME:FeLiveLife
X-ORIGINAL-URL:https://felivelife.org
X-WR-CALDESC:Events for FeLiveLife
REFRESH-INTERVAL;VALUE=DURATION:PT1H
X-Robots-Tag:noindex
X-PUBLISHED-TTL:PT1H
BEGIN:VTIMEZONE
TZID:America/Chicago
BEGIN:DAYLIGHT
TZOFFSETFROM:-0600
TZOFFSETTO:-0500
TZNAME:CDT
DTSTART:20250309T080000
END:DAYLIGHT
BEGIN:STANDARD
TZOFFSETFROM:-0500
TZOFFSETTO:-0600
TZNAME:CST
DTSTART:20251102T070000
END:STANDARD
BEGIN:DAYLIGHT
TZOFFSETFROM:-0600
TZOFFSETTO:-0500
TZNAME:CDT
DTSTART:20260308T080000
END:DAYLIGHT
BEGIN:STANDARD
TZOFFSETFROM:-0500
TZOFFSETTO:-0600
TZNAME:CST
DTSTART:20261101T070000
END:STANDARD
BEGIN:DAYLIGHT
TZOFFSETFROM:-0600
TZOFFSETTO:-0500
TZNAME:CDT
DTSTART:20270314T080000
END:DAYLIGHT
BEGIN:STANDARD
TZOFFSETFROM:-0500
TZOFFSETTO:-0600
TZNAME:CST
DTSTART:20271107T070000
END:STANDARD
END:VTIMEZONE
BEGIN:VEVENT
DTSTART;TZID=America/Chicago:20260208T160000
DTEND;TZID=America/Chicago:20260208T170000
DTSTAMP:20260424T095033
CREATED:20260118T184410Z
LAST-MODIFIED:20260118T184410Z
UID:14976-1770566400-1770570000@felivelife.org
SUMMARY:Chili and Soup Cookoff
DESCRIPTION:The Wakefield American Legion is hosting a soup and chili cookoff on Super Bowl Sunday\, February 8th. \nEntry fee is $5 and entries must be at the Legion by 4 PM. \nAll are welcome. \n \n 
URL:https://felivelife.org/event/chili-and-soup-cookoff/
LOCATION:Wakefield American Legion\, 605 River Street\, Wakefield\, 49968
CATEGORIES:Community Events,Fundraising
ATTACH;FMTTYPE=image/png:https://felivelife.org/wp-content/uploads/2026/01/CHILI-SOUP-COOKOFF.png
END:VEVENT
END:VCALENDAR