BEGIN:VCALENDAR
VERSION:2.0
PRODID:-//FeLiveLife - ECPv6.15.12//NONSGML v1.0//EN
CALSCALE:GREGORIAN
METHOD:PUBLISH
X-WR-CALNAME:FeLiveLife
X-ORIGINAL-URL:https://felivelife.org
X-WR-CALDESC:Events for FeLiveLife
REFRESH-INTERVAL;VALUE=DURATION:PT1H
X-Robots-Tag:noindex
X-PUBLISHED-TTL:PT1H
BEGIN:VTIMEZONE
TZID:America/Chicago
BEGIN:DAYLIGHT
TZOFFSETFROM:-0600
TZOFFSETTO:-0500
TZNAME:CDT
DTSTART:20250309T080000
END:DAYLIGHT
BEGIN:STANDARD
TZOFFSETFROM:-0500
TZOFFSETTO:-0600
TZNAME:CST
DTSTART:20251102T070000
END:STANDARD
BEGIN:DAYLIGHT
TZOFFSETFROM:-0600
TZOFFSETTO:-0500
TZNAME:CDT
DTSTART:20260308T080000
END:DAYLIGHT
BEGIN:STANDARD
TZOFFSETFROM:-0500
TZOFFSETTO:-0600
TZNAME:CST
DTSTART:20261101T070000
END:STANDARD
BEGIN:DAYLIGHT
TZOFFSETFROM:-0600
TZOFFSETTO:-0500
TZNAME:CDT
DTSTART:20270314T080000
END:DAYLIGHT
BEGIN:STANDARD
TZOFFSETFROM:-0500
TZOFFSETTO:-0600
TZNAME:CST
DTSTART:20271107T070000
END:STANDARD
END:VTIMEZONE
BEGIN:VEVENT
DTSTART;TZID=America/Chicago:20260203T130000
DTEND;TZID=America/Chicago:20260203T150000
DTSTAMP:20260421T045310
CREATED:20260201T165533Z
LAST-MODIFIED:20260201T165533Z
UID:10009382-1770123600-1770130800@felivelife.org
SUMMARY:Demystifying AI – Everyday Uses for Real Life
DESCRIPTION:This Fe University course will take place on Tuesdays\, Feb. 3\, 10\, 17\, and 24\, 2026\, 1:00-3:00 p.m.\, with Dustin Filippini at the Iron County Courthouse Boardroom in Hurley\, Wis.\nBy the end of this course\, students will understand what artificial intelligence is\, how it works in everyday life\, and how to use AI tools effectively and responsibly. You will be able to identify the benefits and risks of AI\, recognize misinformation or bias in AI outputs\, and apply AI to enhance personal or professional tasks. Students will leave with practical skills\, critical awareness\, and confidence to navigate the rapidly evolving AI landscape. \nThe course will be given in 4 sessions\, each 120 minutes long\, covering the following topics: \n\nWhat is AI? An introduction to the foundations of artificial intelligence\, explaining what AI is\, how it has evolved over time\, and how modern systems learn from data. Students will also gain a clear understanding of the major types of AI and the roles they play in everyday technologies.\nThe Good and Bad of AI: Examine both the benefits and risks of AI\, highlighting real breakthroughs that improve medicine\, accessibility\, business\, and daily life. It also addresses major concerns\, including bias\, privacy\, copyright\, environmental impacts\, and the broader effects of AI on work\, education\, and society.\n\n\nUsing AI in Your Everyday Life: Explore practical ways to use AI in everyday life\, introducing the major platforms and demonstrating how they assist with real tasks at home or work. Students will learn how to write effective prompts\, evaluate AI outputs\, and practice hands-on use through guided demonstrations and exercises.\n\n\nUsing AI for Good: Focus on how individuals and communities can help ensure AI is used responsibly and for the common good\, from personal choices to broader societal efforts. It introduces practical steps for incorporating AI into daily life\, offers guidance on thoughtful advocacy around AI issues\, and expands on meaningful\, beneficial applications of AI in work and home settings.\n\nRequirements: This course doesn’t require any deep tech expertise\, just a healthy curiosity about how AI and technology work. If you can use the internet\, you’re already in good shape. Having a laptop or tablet with you in class can make things easier\, but it’s not a must. There are no required books to buy\, though there may be a few optional reads if you like diving deeper. Between sessions you’ll get some light\, optional activities\, the kind you can do with a cup of coffee rather than a\nstack of textbooks. \nInstructor Dustin Filippini has spent more than 25 years working across the tech landscape\, from IT and hardware roles to modern web development and programming. Over the past 15 years\, he has specialized in building websites and applications with the latest technology\, tools\, and frameworks\, serving education\, non-profits\, small businesses\, and corporate clients. He holds a Bachelor of Science in Business from Northern Michigan University and an Associate’s degree from Gogebic Community College\, and has presented\, guest lectured\, and led workshops at events and conferences nationwide. Originally a local from Bessemer\, he returned home several years ago and is again based in his hometown. \nThis class is limited to 25 students.
URL:https://felivelife.org/event/demystifying-ai-everyday-uses-for-real-life/2026-02-03/
LOCATION:Iron County Courthouse\, 300 Taconite Street\, Hurley\, WI\, 54534
CATEGORIES:Community Events,Education
ATTACH;FMTTYPE=image/png:https://felivelife.org/wp-content/uploads/2026/02/Still-Learning-16-Demystifying-AI-New.png
ORGANIZER;CN="Fe University":MAILTO:info@feuniversity.org
END:VEVENT
END:VCALENDAR