BEGIN:VCALENDAR
VERSION:2.0
PRODID:-//FeLiveLife - ECPv6.15.12//NONSGML v1.0//EN
CALSCALE:GREGORIAN
METHOD:PUBLISH
X-WR-CALNAME:FeLiveLife
X-ORIGINAL-URL:https://felivelife.org
X-WR-CALDESC:Events for FeLiveLife
REFRESH-INTERVAL;VALUE=DURATION:PT1H
X-Robots-Tag:noindex
X-PUBLISHED-TTL:PT1H
BEGIN:VTIMEZONE
TZID:America/Chicago
BEGIN:DAYLIGHT
TZOFFSETFROM:-0600
TZOFFSETTO:-0500
TZNAME:CDT
DTSTART:20250309T080000
END:DAYLIGHT
BEGIN:STANDARD
TZOFFSETFROM:-0500
TZOFFSETTO:-0600
TZNAME:CST
DTSTART:20251102T070000
END:STANDARD
BEGIN:DAYLIGHT
TZOFFSETFROM:-0600
TZOFFSETTO:-0500
TZNAME:CDT
DTSTART:20260308T080000
END:DAYLIGHT
BEGIN:STANDARD
TZOFFSETFROM:-0500
TZOFFSETTO:-0600
TZNAME:CST
DTSTART:20261101T070000
END:STANDARD
BEGIN:DAYLIGHT
TZOFFSETFROM:-0600
TZOFFSETTO:-0500
TZNAME:CDT
DTSTART:20270314T080000
END:DAYLIGHT
BEGIN:STANDARD
TZOFFSETFROM:-0500
TZOFFSETTO:-0600
TZNAME:CST
DTSTART:20271107T070000
END:STANDARD
END:VTIMEZONE
BEGIN:VEVENT
DTSTART;TZID=America/Chicago:20260425T180000
DTEND;TZID=America/Chicago:20260425T193000
DTSTAMP:20260425T091425
CREATED:20260416T022605Z
LAST-MODIFIED:20260416T022605Z
UID:10010287-1777140000-1777145400@felivelife.org
SUMMARY:Dinner Theatre with the Awkward Stage Drama Club
DESCRIPTION:Enjoy a delicious dinner at the Golden Dragon Restaurant in Ironwood while enjoying the Awkward Stage Drama Club’s production of THE EMERALS HEIST. \nSee additional information on the flyer below. \nTickets are $20 and may be purchased here: https://www.zeffy.com/en-US/ticketing/the-emerald-heist-first-class-dinner-theater-experience
URL:https://felivelife.org/event/dinner-theatre-with-the-awkward-stage-drama-club/2026-04-25/
LOCATION:Golden Dragon Restaurant\, 215 S Suffolk St\, Ironwood\, 49938
CATEGORIES:Arts & Culture,Community Events,Entertainment
ATTACH;FMTTYPE=image/jpeg:https://felivelife.org/wp-content/uploads/2026/04/dinner-theatre-awkward-stage.jpg
END:VEVENT
END:VCALENDAR