BEGIN:VCALENDAR
VERSION:2.0
PRODID:-//FeLiveLife - ECPv6.15.12//NONSGML v1.0//EN
CALSCALE:GREGORIAN
METHOD:PUBLISH
X-WR-CALNAME:FeLiveLife
X-ORIGINAL-URL:https://felivelife.org
X-WR-CALDESC:Events for FeLiveLife
REFRESH-INTERVAL;VALUE=DURATION:PT1H
X-Robots-Tag:noindex
X-PUBLISHED-TTL:PT1H
BEGIN:VTIMEZONE
TZID:America/Chicago
BEGIN:DAYLIGHT
TZOFFSETFROM:-0600
TZOFFSETTO:-0500
TZNAME:CDT
DTSTART:20240310T080000
END:DAYLIGHT
BEGIN:STANDARD
TZOFFSETFROM:-0500
TZOFFSETTO:-0600
TZNAME:CST
DTSTART:20241103T070000
END:STANDARD
BEGIN:DAYLIGHT
TZOFFSETFROM:-0600
TZOFFSETTO:-0500
TZNAME:CDT
DTSTART:20250309T080000
END:DAYLIGHT
BEGIN:STANDARD
TZOFFSETFROM:-0500
TZOFFSETTO:-0600
TZNAME:CST
DTSTART:20251102T070000
END:STANDARD
BEGIN:DAYLIGHT
TZOFFSETFROM:-0600
TZOFFSETTO:-0500
TZNAME:CDT
DTSTART:20260308T080000
END:DAYLIGHT
BEGIN:STANDARD
TZOFFSETFROM:-0500
TZOFFSETTO:-0600
TZNAME:CST
DTSTART:20261101T070000
END:STANDARD
END:VTIMEZONE
BEGIN:VEVENT
DTSTART;TZID=America/Chicago:20251031T180000
DTEND;TZID=America/Chicago:20251031T213000
DTSTAMP:20260419T073805
CREATED:20251008T203207Z
LAST-MODIFIED:20251012T194329Z
UID:11891-1761933600-1761946200@felivelife.org
SUMMARY:Down the Rabbit Hole Halloween Party & Musical Guests:  Woodblind meets Teague Alexy
DESCRIPTION:The Midway in Ironwood is hosting “Down the Rabbit Hole Halloween Party” Oct. 31st from 6 – close..\nCome dressed up\, come as yourself\, either way this is going to be an amazing event!\nCostume contest.. Special food offerings.. Special Drink offerings.. \n 
URL:https://felivelife.org/event/down-the-rabbit-hole-halloween-party/
LOCATION:Midway Ironwood\, 204 W. Aurora St.\, Ironwood\, MI\, 49938
CATEGORIES:Arts & Culture,Community Events,Entertainment,Outdoor & Recreation
ATTACH;FMTTYPE=image/jpeg:https://felivelife.org/wp-content/uploads/2025/10/midway-halloween.jpg
GEO:46.4529589;-90.1715568
X-APPLE-STRUCTURED-LOCATION;VALUE=URI;X-ADDRESS=Midway Ironwood 204 W. Aurora St. Ironwood MI 49938;X-APPLE-RADIUS=500;X-TITLE=204 W. Aurora St.:geo:-90.1715568,46.4529589
END:VEVENT
END:VCALENDAR