BEGIN:VCALENDAR
VERSION:2.0
PRODID:-//FeLiveLife - ECPv6.15.12//NONSGML v1.0//EN
CALSCALE:GREGORIAN
METHOD:PUBLISH
X-WR-CALNAME:FeLiveLife
X-ORIGINAL-URL:https://felivelife.org
X-WR-CALDESC:Events for FeLiveLife
REFRESH-INTERVAL;VALUE=DURATION:PT1H
X-Robots-Tag:noindex
X-PUBLISHED-TTL:PT1H
BEGIN:VTIMEZONE
TZID:America/Chicago
BEGIN:DAYLIGHT
TZOFFSETFROM:-0600
TZOFFSETTO:-0500
TZNAME:CDT
DTSTART:20250309T080000
END:DAYLIGHT
BEGIN:STANDARD
TZOFFSETFROM:-0500
TZOFFSETTO:-0600
TZNAME:CST
DTSTART:20251102T070000
END:STANDARD
BEGIN:DAYLIGHT
TZOFFSETFROM:-0600
TZOFFSETTO:-0500
TZNAME:CDT
DTSTART:20260308T080000
END:DAYLIGHT
BEGIN:STANDARD
TZOFFSETFROM:-0500
TZOFFSETTO:-0600
TZNAME:CST
DTSTART:20261101T070000
END:STANDARD
BEGIN:DAYLIGHT
TZOFFSETFROM:-0600
TZOFFSETTO:-0500
TZNAME:CDT
DTSTART:20270314T080000
END:DAYLIGHT
BEGIN:STANDARD
TZOFFSETFROM:-0500
TZOFFSETTO:-0600
TZNAME:CST
DTSTART:20271107T070000
END:STANDARD
END:VTIMEZONE
BEGIN:VEVENT
DTSTART;TZID=America/Chicago:20260523T140000
DTEND;TZID=America/Chicago:20260524T170000
DTSTAMP:20260422T075744
CREATED:20260312T105810Z
LAST-MODIFIED:20260312T110227Z
UID:10009924-1779544800-1779642000@felivelife.org
SUMMARY:Find Your North UP Beat Music & Arts Festival
DESCRIPTION:The UP BEAT Music & Arts Festival is a two-day music and arts festival located Ironwood\, Michigan!\n\nThis festival brings FREE live music to several downtown locations for an unforgettable experience!\n\nJoin us at the main stage in the heart downtown at the Downtown City Square outdoor amphitheater.\n\nThe event will start at 2:00 p.m. and end at Midnight both days\, May 23 and 24\, 2026.
URL:https://felivelife.org/event/find-your-north-up-beat-music-arts-festival/2026-05-23/
LOCATION:Downtown Ironwood\, Ironwood\, MI\, 49938
CATEGORIES:Arts & Culture,Community Events,Entertainment
ATTACH;FMTTYPE=image/jpeg:https://felivelife.org/wp-content/uploads/2026/03/UP-Beat.jpg
ORGANIZER;CN="Travel Ironwood":MAILTO:ironwood@cityofironwood.org
END:VEVENT
END:VCALENDAR