BEGIN:VCALENDAR
VERSION:2.0
PRODID:-//FeLiveLife - ECPv6.15.12//NONSGML v1.0//EN
CALSCALE:GREGORIAN
METHOD:PUBLISH
X-WR-CALNAME:FeLiveLife
X-ORIGINAL-URL:https://felivelife.org
X-WR-CALDESC:Events for FeLiveLife
REFRESH-INTERVAL;VALUE=DURATION:PT1H
X-Robots-Tag:noindex
X-PUBLISHED-TTL:PT1H
BEGIN:VTIMEZONE
TZID:America/Chicago
BEGIN:DAYLIGHT
TZOFFSETFROM:-0600
TZOFFSETTO:-0500
TZNAME:CDT
DTSTART:20250309T080000
END:DAYLIGHT
BEGIN:STANDARD
TZOFFSETFROM:-0500
TZOFFSETTO:-0600
TZNAME:CST
DTSTART:20251102T070000
END:STANDARD
BEGIN:DAYLIGHT
TZOFFSETFROM:-0600
TZOFFSETTO:-0500
TZNAME:CDT
DTSTART:20260308T080000
END:DAYLIGHT
BEGIN:STANDARD
TZOFFSETFROM:-0500
TZOFFSETTO:-0600
TZNAME:CST
DTSTART:20261101T070000
END:STANDARD
BEGIN:DAYLIGHT
TZOFFSETFROM:-0600
TZOFFSETTO:-0500
TZNAME:CDT
DTSTART:20270314T080000
END:DAYLIGHT
BEGIN:STANDARD
TZOFFSETFROM:-0500
TZOFFSETTO:-0600
TZNAME:CST
DTSTART:20271107T070000
END:STANDARD
END:VTIMEZONE
BEGIN:VEVENT
DTSTART;TZID=America/Chicago:20260306T150000
DTEND;TZID=America/Chicago:20260306T180000
DTSTAMP:20260422T103145
CREATED:20260226T001013Z
LAST-MODIFIED:20260226T001013Z
UID:16242-1772809200-1772820000@felivelife.org
SUMMARY:First Friday Tasting Party @ Northwind Co-op
DESCRIPTION:We hope you can join us for our monthly wine\, tea & treats tasting party!\nThis month we’ll be sampling some fun new wines\, cheeses and more! \nCheck below for additional information.
URL:https://felivelife.org/event/first-friday-tasting-party-northwind-co-op/
LOCATION:Northwind Natural Foods Co-op\, 116 S Suffolk St\, Ironwood\, MI\, 49938
CATEGORIES:Community Events,Entertainment
ATTACH;FMTTYPE=image/png:https://felivelife.org/wp-content/uploads/2026/02/Mar-6th-First-Friday.png
ORGANIZER;CN="Northwind Natural Foods Co-op":MAILTO:cathy@northwindcoop.org
END:VEVENT
END:VCALENDAR