BEGIN:VCALENDAR
VERSION:2.0
PRODID:-//FeLiveLife - ECPv6.15.12//NONSGML v1.0//EN
CALSCALE:GREGORIAN
METHOD:PUBLISH
X-WR-CALNAME:FeLiveLife
X-ORIGINAL-URL:https://felivelife.org
X-WR-CALDESC:Events for FeLiveLife
REFRESH-INTERVAL;VALUE=DURATION:PT1H
X-Robots-Tag:noindex
X-PUBLISHED-TTL:PT1H
BEGIN:VTIMEZONE
TZID:America/Chicago
BEGIN:DAYLIGHT
TZOFFSETFROM:-0600
TZOFFSETTO:-0500
TZNAME:CDT
DTSTART:20240310T080000
END:DAYLIGHT
BEGIN:STANDARD
TZOFFSETFROM:-0500
TZOFFSETTO:-0600
TZNAME:CST
DTSTART:20241103T070000
END:STANDARD
BEGIN:DAYLIGHT
TZOFFSETFROM:-0600
TZOFFSETTO:-0500
TZNAME:CDT
DTSTART:20250309T080000
END:DAYLIGHT
BEGIN:STANDARD
TZOFFSETFROM:-0500
TZOFFSETTO:-0600
TZNAME:CST
DTSTART:20251102T070000
END:STANDARD
BEGIN:DAYLIGHT
TZOFFSETFROM:-0600
TZOFFSETTO:-0500
TZNAME:CDT
DTSTART:20260308T080000
END:DAYLIGHT
BEGIN:STANDARD
TZOFFSETFROM:-0500
TZOFFSETTO:-0600
TZNAME:CST
DTSTART:20261101T070000
END:STANDARD
END:VTIMEZONE
BEGIN:VEVENT
DTSTART;TZID=America/Chicago:20250122T000000
DTEND;TZID=America/Chicago:20250122T000000
DTSTAMP:20260423T050638
CREATED:20250506T175829Z
LAST-MODIFIED:20250506T175829Z
UID:4302-1737504000-1737504000@felivelife.org
SUMMARY:Football Board Scholarship Fundraiser
DESCRIPTION:On Super Bowl Sunday\, February 9\, 2025\, WE CARE is hosting a Football Board Fundraiser to raise funds for two local graduates to each receive a $500 scholarship!\nHow it works:\n\n\nFor $25 per square\, you claim a spot on our board! Once the board is full\, they will randomly assign numbers to each square.\nYou will then receive 4 sets of numbers (1 set for each quarter). If your number matches the score at the end of each quarter\, you win! (For example\, if you have 0 (NFC) and 7 (AFC)\, and the score at the end of the 1st quarter is 10 (NFC) to 17 (AFC)\, you win).\n\n\n\nPAYOUTS:\n1st Quarter- $200\nHalftime- $450\n3rd Quarter- $250\nFinal- $600\n\n\n\n$1\,000 will be given to the two $500 scholarship awardees.\n\n\n\nSign up today and get your spot before they fill up. You may contact WE CARE through Facebook messenger\, email (wecare49968@gmail.com)\,  or by getting in touch with any of their directors.\n\nThank you for your support!!\n\n\n\nDirectors:\nMike Zeckovich\nDale White\nJean White\nAli Willame\nAshley Tarro
URL:https://felivelife.org/event/football-board-scholarship-fundraiser/
ATTACH;FMTTYPE=image/png:https://felivelife.org/wp-content/uploads/2025/05/WE-CARE-FOOTBALL-BOARD-SCHOLARSHIP-FUNDRAISER-eMD3ke.png
END:VEVENT
END:VCALENDAR