BEGIN:VCALENDAR
VERSION:2.0
PRODID:-//FeLiveLife - ECPv6.15.12//NONSGML v1.0//EN
CALSCALE:GREGORIAN
METHOD:PUBLISH
X-WR-CALNAME:FeLiveLife
X-ORIGINAL-URL:https://felivelife.org
X-WR-CALDESC:Events for FeLiveLife
REFRESH-INTERVAL;VALUE=DURATION:PT1H
X-Robots-Tag:noindex
X-PUBLISHED-TTL:PT1H
BEGIN:VTIMEZONE
TZID:America/Chicago
BEGIN:DAYLIGHT
TZOFFSETFROM:-0600
TZOFFSETTO:-0500
TZNAME:CDT
DTSTART:20250309T080000
END:DAYLIGHT
BEGIN:STANDARD
TZOFFSETFROM:-0500
TZOFFSETTO:-0600
TZNAME:CST
DTSTART:20251102T070000
END:STANDARD
BEGIN:DAYLIGHT
TZOFFSETFROM:-0600
TZOFFSETTO:-0500
TZNAME:CDT
DTSTART:20260308T080000
END:DAYLIGHT
BEGIN:STANDARD
TZOFFSETFROM:-0500
TZOFFSETTO:-0600
TZNAME:CST
DTSTART:20261101T070000
END:STANDARD
BEGIN:DAYLIGHT
TZOFFSETFROM:-0600
TZOFFSETTO:-0500
TZNAME:CDT
DTSTART:20270314T080000
END:DAYLIGHT
BEGIN:STANDARD
TZOFFSETFROM:-0500
TZOFFSETTO:-0600
TZNAME:CST
DTSTART:20271107T070000
END:STANDARD
END:VTIMEZONE
BEGIN:VEVENT
DTSTART;TZID=America/Chicago:20260428T130000
DTEND;TZID=America/Chicago:20260428T140000
DTSTAMP:20260419T073837
CREATED:20260414T214243Z
LAST-MODIFIED:20260414T214243Z
UID:17866-1777381200-1777384800@felivelife.org
SUMMARY:Gardening with Pollinators
DESCRIPTION:Woods and Blooms Garden Club of Mercer Is hosting a garden talk about what to plant to attract pollinators to your garden. The speaker is Mary Nelson. \nAll are welcome to attend on Tuesday\, April 28th from 1 – 2 PM at the Mercer Community Center. \nScreenshot
URL:https://felivelife.org/event/gardening-with-pollinators/
LOCATION:Mercer Community Center\, 2648 W Margaret Street\, Mercer\, WI
CATEGORIES:Education
ATTACH;FMTTYPE=image/jpeg:https://felivelife.org/wp-content/uploads/2026/04/IMG_5456.jpeg
END:VEVENT
END:VCALENDAR