BEGIN:VCALENDAR
VERSION:2.0
PRODID:-//FeLiveLife - ECPv6.15.12//NONSGML v1.0//EN
CALSCALE:GREGORIAN
METHOD:PUBLISH
X-WR-CALNAME:FeLiveLife
X-ORIGINAL-URL:https://felivelife.org
X-WR-CALDESC:Events for FeLiveLife
REFRESH-INTERVAL;VALUE=DURATION:PT1H
X-Robots-Tag:noindex
X-PUBLISHED-TTL:PT1H
BEGIN:VTIMEZONE
TZID:America/Chicago
BEGIN:DAYLIGHT
TZOFFSETFROM:-0600
TZOFFSETTO:-0500
TZNAME:CDT
DTSTART:20250309T080000
END:DAYLIGHT
BEGIN:STANDARD
TZOFFSETFROM:-0500
TZOFFSETTO:-0600
TZNAME:CST
DTSTART:20251102T070000
END:STANDARD
BEGIN:DAYLIGHT
TZOFFSETFROM:-0600
TZOFFSETTO:-0500
TZNAME:CDT
DTSTART:20260308T080000
END:DAYLIGHT
BEGIN:STANDARD
TZOFFSETFROM:-0500
TZOFFSETTO:-0600
TZNAME:CST
DTSTART:20261101T070000
END:STANDARD
BEGIN:DAYLIGHT
TZOFFSETFROM:-0600
TZOFFSETTO:-0500
TZNAME:CDT
DTSTART:20270314T080000
END:DAYLIGHT
BEGIN:STANDARD
TZOFFSETFROM:-0500
TZOFFSETTO:-0600
TZNAME:CST
DTSTART:20271107T070000
END:STANDARD
END:VTIMEZONE
BEGIN:VEVENT
DTSTART;TZID=America/Chicago:20260423T090000
DTEND;TZID=America/Chicago:20260423T100000
DTSTAMP:20260422T083958
CREATED:20260414T213610Z
LAST-MODIFIED:20260414T213610Z
UID:17868-1776934800-1776938400@felivelife.org
SUMMARY:Grown Up Story Hour
DESCRIPTION:Mark your calendar for the next Grown Up Story Hour presented by the Mercer Public Libraryon Thursday\, April 23 at the Northwoods Hub (Mercer Senior Center) from 9:00 to 10:00 a.m. Bring a short story\, poem\, or an essay to read aloud in a relaxing setting OR just sit back and listen! \n 
URL:https://felivelife.org/event/grown-up-story-hour-5/
LOCATION:Northwoods Hub\, 2518 Martha Lake Road\, Mercer\, Wis\, 54547
CATEGORIES:Community Events
ATTACH;FMTTYPE=image/jpeg:https://felivelife.org/wp-content/uploads/2026/04/grown-up-apr-26.jpg
GEO:46.1655219;-90.0554375
X-APPLE-STRUCTURED-LOCATION;VALUE=URI;X-ADDRESS=Northwoods Hub 2518 Martha Lake Road Mercer Wis 54547;X-APPLE-RADIUS=500;X-TITLE=2518 Martha Lake Road:geo:-90.0554375,46.1655219
END:VEVENT
END:VCALENDAR