BEGIN:VCALENDAR
VERSION:2.0
PRODID:-//FeLiveLife - ECPv6.15.12//NONSGML v1.0//EN
CALSCALE:GREGORIAN
METHOD:PUBLISH
X-WR-CALNAME:FeLiveLife
X-ORIGINAL-URL:https://felivelife.org
X-WR-CALDESC:Events for FeLiveLife
REFRESH-INTERVAL;VALUE=DURATION:PT1H
X-Robots-Tag:noindex
X-PUBLISHED-TTL:PT1H
BEGIN:VTIMEZONE
TZID:America/Chicago
BEGIN:DAYLIGHT
TZOFFSETFROM:-0600
TZOFFSETTO:-0500
TZNAME:CDT
DTSTART:20250309T080000
END:DAYLIGHT
BEGIN:STANDARD
TZOFFSETFROM:-0500
TZOFFSETTO:-0600
TZNAME:CST
DTSTART:20251102T070000
END:STANDARD
BEGIN:DAYLIGHT
TZOFFSETFROM:-0600
TZOFFSETTO:-0500
TZNAME:CDT
DTSTART:20260308T080000
END:DAYLIGHT
BEGIN:STANDARD
TZOFFSETFROM:-0500
TZOFFSETTO:-0600
TZNAME:CST
DTSTART:20261101T070000
END:STANDARD
BEGIN:DAYLIGHT
TZOFFSETFROM:-0600
TZOFFSETTO:-0500
TZNAME:CDT
DTSTART:20270314T080000
END:DAYLIGHT
BEGIN:STANDARD
TZOFFSETFROM:-0500
TZOFFSETTO:-0600
TZNAME:CST
DTSTART:20271107T070000
END:STANDARD
END:VTIMEZONE
BEGIN:VEVENT
DTSTART;TZID=America/Chicago:20260206T120000
DTEND;TZID=America/Chicago:20260206T143000
DTSTAMP:20260420T085908
CREATED:20260208T173139Z
LAST-MODIFIED:20260217T224907Z
UID:10009511-1770379200-1770388200@felivelife.org
SUMMARY:Guided Snowshoe Hike
DESCRIPTION:You’re invited on Feb. 6th and Feb. 20th\, 2026 – Snowshoeing with the Giants\n\n\nJoin our Park Naturalist through a snowy trail along the most gorgeous waterfalls and old growth forest in this area.\nMeet at the Presque Isle Bridge near the Entrance of Presque Isle Campground on the west side of the Porcupine Mountains State Park.\n\n\n*Presque Isle is accessible by taking County Road 519 North\, just east of Wakefield.\n*South Boundary Road is closed in winters\, if traveling from the east\, take M-28.\n\nSee the flyer below for additional information.
URL:https://felivelife.org/event/guided-snowshoe-hike/2026-02-06/
LOCATION:Porcupine Mountains Wilderness State Park\, 33303 Headquarters Road\, Ontonagon\, MI\, 49953
CATEGORIES:Community Events,Outdoor & Recreation
ATTACH;FMTTYPE=image/jpeg:https://felivelife.org/wp-content/uploads/2026/02/porkies-snowshoe-hikes-768x561-1.jpg
END:VEVENT
END:VCALENDAR