BEGIN:VCALENDAR
VERSION:2.0
PRODID:-//FeLiveLife - ECPv6.15.12//NONSGML v1.0//EN
CALSCALE:GREGORIAN
METHOD:PUBLISH
X-WR-CALNAME:FeLiveLife
X-ORIGINAL-URL:https://felivelife.org
X-WR-CALDESC:Events for FeLiveLife
REFRESH-INTERVAL;VALUE=DURATION:PT1H
X-Robots-Tag:noindex
X-PUBLISHED-TTL:PT1H
BEGIN:VTIMEZONE
TZID:America/Chicago
BEGIN:DAYLIGHT
TZOFFSETFROM:-0600
TZOFFSETTO:-0500
TZNAME:CDT
DTSTART:20250309T080000
END:DAYLIGHT
BEGIN:STANDARD
TZOFFSETFROM:-0500
TZOFFSETTO:-0600
TZNAME:CST
DTSTART:20251102T070000
END:STANDARD
BEGIN:DAYLIGHT
TZOFFSETFROM:-0600
TZOFFSETTO:-0500
TZNAME:CDT
DTSTART:20260308T080000
END:DAYLIGHT
BEGIN:STANDARD
TZOFFSETFROM:-0500
TZOFFSETTO:-0600
TZNAME:CST
DTSTART:20261101T070000
END:STANDARD
BEGIN:DAYLIGHT
TZOFFSETFROM:-0600
TZOFFSETTO:-0500
TZNAME:CDT
DTSTART:20270314T080000
END:DAYLIGHT
BEGIN:STANDARD
TZOFFSETFROM:-0500
TZOFFSETTO:-0600
TZNAME:CST
DTSTART:20271107T070000
END:STANDARD
END:VTIMEZONE
BEGIN:VEVENT
DTSTART;TZID=America/Chicago:20260302T140000
DTEND;TZID=America/Chicago:20260302T150000
DTSTAMP:20260422T055936
CREATED:20260221T192719Z
LAST-MODIFIED:20260221T192719Z
UID:16070-1772460000-1772463600@felivelife.org
SUMMARY:Ink Drinkers Book Club
DESCRIPTION:Ink Drinkers Book Club – March Meetup!The Wakefield Public Library invites you to the next 𝐈𝐧𝐤 𝐃𝐫𝐢𝐧𝐤𝐞𝐫𝐬 𝐁𝐨𝐨𝐤 𝐂𝐥𝐮𝐛 gathering! 𝐌𝐚𝐫𝐜𝐡 𝟐\, 𝟐𝟎𝟐𝟔 𝟐:𝟎𝟎 𝐏𝐌 𝐍𝐨𝐫𝐭𝐡𝐰𝐨𝐨𝐝𝐬 𝐆𝐞𝐧𝐞𝐫𝐚𝐥 𝐒𝐭𝐨𝐫𝐞 & 𝐂𝐨𝐟𝐟𝐞𝐞𝐡𝐨𝐮𝐬𝐞This month\, we’re diving into 𝐓𝐡𝐞 𝐓𝐢𝐦𝐞 𝐓𝐫𝐚𝐯𝐞𝐥𝐞𝐫’𝐬 𝐖𝐢𝐟𝐞—a heartfelt\, time-bending love story that’s perfect for cozy winter reading.  A limited number of physical copies are still available to check out at the library. Prefer digital? It’s also available on Libby.Want updates on upcoming titles and meeting dates? Be sure to join our book club app and stay connected! New members are always welcome—grab a coffee\, bring your thoughts\, and join the conversation. We’d love to see you there!
URL:https://felivelife.org/event/ink-drinkers-book-club-3/
LOCATION:Northwoods General Store and Coffeehouse\, 1010 US-2\, Wakefield\, MI\, 49968
CATEGORIES:Community Events
ATTACH;FMTTYPE=image/jpeg:https://felivelife.org/wp-content/uploads/2026/02/ink-drinkers-time-travelers.jpg
ORGANIZER;CN="Wakefield Public Library":MAILTO:wpl@wakefieldpubliclibrary.org
GEO:46.4762806;-89.9330303
X-APPLE-STRUCTURED-LOCATION;VALUE=URI;X-ADDRESS=Northwoods General Store and Coffeehouse 1010 US-2 Wakefield MI 49968;X-APPLE-RADIUS=500;X-TITLE=1010 US-2:geo:-89.9330303,46.4762806
END:VEVENT
END:VCALENDAR