BEGIN:VCALENDAR
VERSION:2.0
PRODID:-//FeLiveLife - ECPv6.15.12//NONSGML v1.0//EN
CALSCALE:GREGORIAN
METHOD:PUBLISH
X-WR-CALNAME:FeLiveLife
X-ORIGINAL-URL:https://felivelife.org
X-WR-CALDESC:Events for FeLiveLife
REFRESH-INTERVAL;VALUE=DURATION:PT1H
X-Robots-Tag:noindex
X-PUBLISHED-TTL:PT1H
BEGIN:VTIMEZONE
TZID:America/Chicago
BEGIN:DAYLIGHT
TZOFFSETFROM:-0600
TZOFFSETTO:-0500
TZNAME:CDT
DTSTART:20250309T080000
END:DAYLIGHT
BEGIN:STANDARD
TZOFFSETFROM:-0500
TZOFFSETTO:-0600
TZNAME:CST
DTSTART:20251102T070000
END:STANDARD
BEGIN:DAYLIGHT
TZOFFSETFROM:-0600
TZOFFSETTO:-0500
TZNAME:CDT
DTSTART:20260308T080000
END:DAYLIGHT
BEGIN:STANDARD
TZOFFSETFROM:-0500
TZOFFSETTO:-0600
TZNAME:CST
DTSTART:20261101T070000
END:STANDARD
BEGIN:DAYLIGHT
TZOFFSETFROM:-0600
TZOFFSETTO:-0500
TZNAME:CDT
DTSTART:20270314T080000
END:DAYLIGHT
BEGIN:STANDARD
TZOFFSETFROM:-0500
TZOFFSETTO:-0600
TZNAME:CST
DTSTART:20271107T070000
END:STANDARD
END:VTIMEZONE
BEGIN:VEVENT
DTSTART;TZID=America/Chicago:20260321T180000
DTEND;TZID=America/Chicago:20260321T210000
DTSTAMP:20260423T062945
CREATED:20260318T213914Z
LAST-MODIFIED:20260318T214926Z
UID:16943-1774116000-1774126800@felivelife.org
SUMMARY:Karaoke Night with Susie Que
DESCRIPTION:Karaoke Night with Susie Que is happening soon!\n Saturday\, March 21\, 2026\n 6:00 PM – 9:00 PM\nJoin us for a fun night full of amazing karaoke and maybe some dancing! Sing your favorites and enjoy delicious drinks and food!\n Powder Keg Saloon\, Bessemer\, MI
URL:https://felivelife.org/event/karaoke-night-with-susie-que/
LOCATION:Powder Keg Saloon\, N10924 Powderhorn Road\, Bessemer\, MI\, 49911
CATEGORIES:Entertainment
ATTACH;FMTTYPE=image/jpeg:https://felivelife.org/wp-content/uploads/2026/03/susie-que.jpg
GEO:46.492889;-90.081112
X-APPLE-STRUCTURED-LOCATION;VALUE=URI;X-ADDRESS=Powder Keg Saloon N10924 Powderhorn Road Bessemer MI 49911;X-APPLE-RADIUS=500;X-TITLE=N10924 Powderhorn Road:geo:-90.081112,46.492889
END:VEVENT
END:VCALENDAR