BEGIN:VCALENDAR
VERSION:2.0
PRODID:-//FeLiveLife - ECPv6.15.12//NONSGML v1.0//EN
CALSCALE:GREGORIAN
METHOD:PUBLISH
X-WR-CALNAME:FeLiveLife
X-ORIGINAL-URL:https://felivelife.org
X-WR-CALDESC:Events for FeLiveLife
REFRESH-INTERVAL;VALUE=DURATION:PT1H
X-Robots-Tag:noindex
X-PUBLISHED-TTL:PT1H
BEGIN:VTIMEZONE
TZID:America/Chicago
BEGIN:DAYLIGHT
TZOFFSETFROM:-0600
TZOFFSETTO:-0500
TZNAME:CDT
DTSTART:20240310T080000
END:DAYLIGHT
BEGIN:STANDARD
TZOFFSETFROM:-0500
TZOFFSETTO:-0600
TZNAME:CST
DTSTART:20241103T070000
END:STANDARD
BEGIN:DAYLIGHT
TZOFFSETFROM:-0600
TZOFFSETTO:-0500
TZNAME:CDT
DTSTART:20250309T080000
END:DAYLIGHT
BEGIN:STANDARD
TZOFFSETFROM:-0500
TZOFFSETTO:-0600
TZNAME:CST
DTSTART:20251102T070000
END:STANDARD
BEGIN:DAYLIGHT
TZOFFSETFROM:-0600
TZOFFSETTO:-0500
TZNAME:CDT
DTSTART:20260308T080000
END:DAYLIGHT
BEGIN:STANDARD
TZOFFSETFROM:-0500
TZOFFSETTO:-0600
TZNAME:CST
DTSTART:20261101T070000
END:STANDARD
END:VTIMEZONE
BEGIN:VEVENT
DTSTART;TZID=America/Chicago:20250717T121500
DTEND;TZID=America/Chicago:20250717T130000
DTSTAMP:20260423T063633
CREATED:20250715T112904Z
LAST-MODIFIED:20250716T125551Z
UID:9441-1752754500-1752757200@felivelife.org
SUMMARY:Kay Oursler - Peace Corp Presentation
DESCRIPTION:The Mercer Senior Center welcomes Kay Oursler\, known in Tanzania as “Bibi Kay\,” for an inspiring presentation about her Peace Corps years and raising twenty-one Tanzanian orphans.  She will be at the Center on Thursday\, July 17\, 2025\, at 12:15 p.m. \nThis talk is free and open to the public. The Center is located at 2518 Martha Lake Road in Mercer. \n \n \n 
URL:https://felivelife.org/event/kay-oursler-peace-corp-presentation/
LOCATION:Mercer Senior Center\, 2518 Martha Lake Road\, Mercer\, WI\, 54547
CATEGORIES:Community Events,Education
ATTACH;FMTTYPE=image/jpeg:https://felivelife.org/wp-content/uploads/2025/07/IMG_0134.jpeg
ORGANIZER;CN="Mercer Senior Center":MAILTO:info@mercerseniorcenter.com
END:VEVENT
END:VCALENDAR