BEGIN:VCALENDAR
VERSION:2.0
PRODID:-//FeLiveLife - ECPv6.15.12//NONSGML v1.0//EN
CALSCALE:GREGORIAN
METHOD:PUBLISH
X-WR-CALNAME:FeLiveLife
X-ORIGINAL-URL:https://felivelife.org
X-WR-CALDESC:Events for FeLiveLife
REFRESH-INTERVAL;VALUE=DURATION:PT1H
X-Robots-Tag:noindex
X-PUBLISHED-TTL:PT1H
BEGIN:VTIMEZONE
TZID:America/Chicago
BEGIN:DAYLIGHT
TZOFFSETFROM:-0600
TZOFFSETTO:-0500
TZNAME:CDT
DTSTART:20240310T080000
END:DAYLIGHT
BEGIN:STANDARD
TZOFFSETFROM:-0500
TZOFFSETTO:-0600
TZNAME:CST
DTSTART:20241103T070000
END:STANDARD
BEGIN:DAYLIGHT
TZOFFSETFROM:-0600
TZOFFSETTO:-0500
TZNAME:CDT
DTSTART:20250309T080000
END:DAYLIGHT
BEGIN:STANDARD
TZOFFSETFROM:-0500
TZOFFSETTO:-0600
TZNAME:CST
DTSTART:20251102T070000
END:STANDARD
BEGIN:DAYLIGHT
TZOFFSETFROM:-0600
TZOFFSETTO:-0500
TZNAME:CDT
DTSTART:20260308T080000
END:DAYLIGHT
BEGIN:STANDARD
TZOFFSETFROM:-0500
TZOFFSETTO:-0600
TZNAME:CST
DTSTART:20261101T070000
END:STANDARD
END:VTIMEZONE
BEGIN:VEVENT
DTSTART;TZID=America/Chicago:20250628T170000
DTEND;TZID=America/Chicago:20250628T190000
DTSTAMP:20260420T083603
CREATED:20250625T120213Z
LAST-MODIFIED:20250625T120213Z
UID:8750-1751130000-1751137200@felivelife.org
SUMMARY:Loonie Tunes Music in the Park
DESCRIPTION:The Town of Mercer Park Board is hosting three music in the park events this summer. \nBe sure to swing by Carow Park from 5 – 7 PM on June 28th\, July 12th\, and August 9th. \nThere will be food\, beverages and a 50/50 raffle. All proceeds will go towards funding the new playground in the park! \nFeatured musical guest on June 28th is Bret & Frisk. \n 
URL:https://felivelife.org/event/loonie-tunes-music-in-the-park/
LOCATION:Carow Park\, Hwy J\, Mercer\, WI\, 54547
CATEGORIES:Entertainment,Fundraising
ATTACH;FMTTYPE=image/jpeg:https://felivelife.org/wp-content/uploads/2025/06/loonie-tunes.jpg
ORGANIZER;CN="Town of Mercer":MAILTO:tomiron@centurytel.net
END:VEVENT
END:VCALENDAR