BEGIN:VCALENDAR
VERSION:2.0
PRODID:-//FeLiveLife - ECPv6.15.12//NONSGML v1.0//EN
CALSCALE:GREGORIAN
METHOD:PUBLISH
X-WR-CALNAME:FeLiveLife
X-ORIGINAL-URL:https://felivelife.org
X-WR-CALDESC:Events for FeLiveLife
REFRESH-INTERVAL;VALUE=DURATION:PT1H
X-Robots-Tag:noindex
X-PUBLISHED-TTL:PT1H
BEGIN:VTIMEZONE
TZID:America/Chicago
BEGIN:DAYLIGHT
TZOFFSETFROM:-0600
TZOFFSETTO:-0500
TZNAME:CDT
DTSTART:20250309T080000
END:DAYLIGHT
BEGIN:STANDARD
TZOFFSETFROM:-0500
TZOFFSETTO:-0600
TZNAME:CST
DTSTART:20251102T070000
END:STANDARD
BEGIN:DAYLIGHT
TZOFFSETFROM:-0600
TZOFFSETTO:-0500
TZNAME:CDT
DTSTART:20260308T080000
END:DAYLIGHT
BEGIN:STANDARD
TZOFFSETFROM:-0500
TZOFFSETTO:-0600
TZNAME:CST
DTSTART:20261101T070000
END:STANDARD
BEGIN:DAYLIGHT
TZOFFSETFROM:-0600
TZOFFSETTO:-0500
TZNAME:CDT
DTSTART:20270314T080000
END:DAYLIGHT
BEGIN:STANDARD
TZOFFSETFROM:-0500
TZOFFSETTO:-0600
TZNAME:CST
DTSTART:20271107T070000
END:STANDARD
END:VTIMEZONE
BEGIN:VEVENT
DTSTART;TZID=America/Chicago:20260304T180000
DTEND;TZID=America/Chicago:20260304T190000
DTSTAMP:20260421T031350
CREATED:20260206T195613Z
LAST-MODIFIED:20260206T195613Z
UID:15463-1772647200-1772650800@felivelife.org
SUMMARY:Meet the Author Fundraiser
DESCRIPTION:Meet the Author Fundraiser with Thomas L. Pelissero Wednesday\, March 4 | 6 p.m. at the Hurley Public Library.\nTom will discuss his book Bring One Home: A Memoir of Boyhood\, Basketball\, and Hometown Spirit.\nCopies will be available for purchase at the event\, and proceeds from book sales that night will be donated to the Hurley Public Library!
URL:https://felivelife.org/event/meet-the-author-fundraiser/
LOCATION:Hurley Public Library\, 405 5th Avenue North\, Hurley\, WI\, 54534
CATEGORIES:Community Events
ATTACH;FMTTYPE=image/jpeg:https://felivelife.org/wp-content/uploads/2026/02/Meet-the-Author-Fundraiser-for-Hurley-Library.jpg
END:VEVENT
END:VCALENDAR