BEGIN:VCALENDAR
VERSION:2.0
PRODID:-//FeLiveLife - ECPv6.15.12//NONSGML v1.0//EN
CALSCALE:GREGORIAN
METHOD:PUBLISH
X-WR-CALNAME:FeLiveLife
X-ORIGINAL-URL:https://felivelife.org
X-WR-CALDESC:Events for FeLiveLife
REFRESH-INTERVAL;VALUE=DURATION:PT1H
X-Robots-Tag:noindex
X-PUBLISHED-TTL:PT1H
BEGIN:VTIMEZONE
TZID:America/Chicago
BEGIN:DAYLIGHT
TZOFFSETFROM:-0600
TZOFFSETTO:-0500
TZNAME:CDT
DTSTART:20250309T080000
END:DAYLIGHT
BEGIN:STANDARD
TZOFFSETFROM:-0500
TZOFFSETTO:-0600
TZNAME:CST
DTSTART:20251102T070000
END:STANDARD
BEGIN:DAYLIGHT
TZOFFSETFROM:-0600
TZOFFSETTO:-0500
TZNAME:CDT
DTSTART:20260308T080000
END:DAYLIGHT
BEGIN:STANDARD
TZOFFSETFROM:-0500
TZOFFSETTO:-0600
TZNAME:CST
DTSTART:20261101T070000
END:STANDARD
BEGIN:DAYLIGHT
TZOFFSETFROM:-0600
TZOFFSETTO:-0500
TZNAME:CDT
DTSTART:20270314T080000
END:DAYLIGHT
BEGIN:STANDARD
TZOFFSETFROM:-0500
TZOFFSETTO:-0600
TZNAME:CST
DTSTART:20271107T070000
END:STANDARD
END:VTIMEZONE
BEGIN:VEVENT
DTSTART;TZID=America/Chicago:20260214T080000
DTEND;TZID=America/Chicago:20260214T150000
DTSTAMP:20260423T051208
CREATED:20260208T165213Z
LAST-MODIFIED:20260208T165213Z
UID:15588-1771056000-1771081200@felivelife.org
SUMMARY:Mercer Lions Club Fishing Jamboree
DESCRIPTION:Be a part of the Mercer Lions Club Fishing Jamboree on Saturday\, February 14\, 2026. \nMeet at community center for registration starting at 7AM with fishing starting at 8AM. \nLakes that will be included in tournament are Echo\, Grand Portage and Mercer Lake. \n$20 entry fee for adults & kids 12 and under are FREE. \nFish check-in is 3pm\, NO EXCEPTIONS! \n$500 first place largest legal fish. Other cash and prizes as well\, plus Top 3 for Kids. \nThere will be bingo noon till 3pm\, 50/50 raffle and other raffles. \nThere will also be food available for purchase at the Mercer Community Center. Fishing awards will be at 4PM at the community center. \nCome on down and bring the family to support a great cause and win some nice stuff!
URL:https://felivelife.org/event/mercer-lions-club-fishing-jamboree/
LOCATION:Specified Mercer Area Lakes
CATEGORIES:Community Events,Fundraising,Outdoor & Recreation
ATTACH;FMTTYPE=image/jpeg:https://felivelife.org/wp-content/uploads/2026/02/mercer-fishing.jpg
END:VEVENT
END:VCALENDAR