BEGIN:VCALENDAR
VERSION:2.0
PRODID:-//FeLiveLife - ECPv6.15.12//NONSGML v1.0//EN
CALSCALE:GREGORIAN
METHOD:PUBLISH
X-WR-CALNAME:FeLiveLife
X-ORIGINAL-URL:https://felivelife.org
X-WR-CALDESC:Events for FeLiveLife
REFRESH-INTERVAL;VALUE=DURATION:PT1H
X-Robots-Tag:noindex
X-PUBLISHED-TTL:PT1H
BEGIN:VTIMEZONE
TZID:America/Chicago
BEGIN:DAYLIGHT
TZOFFSETFROM:-0600
TZOFFSETTO:-0500
TZNAME:CDT
DTSTART:20240310T080000
END:DAYLIGHT
BEGIN:STANDARD
TZOFFSETFROM:-0500
TZOFFSETTO:-0600
TZNAME:CST
DTSTART:20241103T070000
END:STANDARD
BEGIN:DAYLIGHT
TZOFFSETFROM:-0600
TZOFFSETTO:-0500
TZNAME:CDT
DTSTART:20250309T080000
END:DAYLIGHT
BEGIN:STANDARD
TZOFFSETFROM:-0500
TZOFFSETTO:-0600
TZNAME:CST
DTSTART:20251102T070000
END:STANDARD
BEGIN:DAYLIGHT
TZOFFSETFROM:-0600
TZOFFSETTO:-0500
TZNAME:CDT
DTSTART:20260308T080000
END:DAYLIGHT
BEGIN:STANDARD
TZOFFSETFROM:-0500
TZOFFSETTO:-0600
TZNAME:CST
DTSTART:20261101T070000
END:STANDARD
END:VTIMEZONE
BEGIN:VEVENT
DTSTART;TZID=America/Chicago:20250204T000000
DTEND;TZID=America/Chicago:20250204T000000
DTSTAMP:20260420T040101
CREATED:20250506T194017Z
LAST-MODIFIED:20250506T194017Z
UID:4398-1738627200-1738627200@felivelife.org
SUMMARY:Mercer Medieval Dusty Prom
DESCRIPTION:July 19\, 2025 is the date for this year’s Mercer Dusty Prom! \nThis year the theme is MEDIEVAL! \nSo\, get your damsel dress or court jester outfit and make plans to attend this incredible fundraiser for the Mercer Suicide Prevention Fund. \nThis year there will also be a scavenger hunt to find the Holy Grail for additional prizes. \nSharpen Excalibur and dust off the chain mail Medieval Prom is Coming!! More information will be found here when it is available.
URL:https://felivelife.org/event/mercer-medieval-dusty-prom/
ATTACH;FMTTYPE=image/jpeg:https://felivelife.org/wp-content/uploads/2025/05/dusty-prom-Je6eUi.jpg
END:VEVENT
END:VCALENDAR