BEGIN:VCALENDAR
VERSION:2.0
PRODID:-//FeLiveLife - ECPv6.15.12//NONSGML v1.0//EN
CALSCALE:GREGORIAN
METHOD:PUBLISH
X-WR-CALNAME:FeLiveLife
X-ORIGINAL-URL:https://felivelife.org
X-WR-CALDESC:Events for FeLiveLife
REFRESH-INTERVAL;VALUE=DURATION:PT1H
X-Robots-Tag:noindex
X-PUBLISHED-TTL:PT1H
BEGIN:VTIMEZONE
TZID:America/Chicago
BEGIN:DAYLIGHT
TZOFFSETFROM:-0600
TZOFFSETTO:-0500
TZNAME:CDT
DTSTART:20250309T080000
END:DAYLIGHT
BEGIN:STANDARD
TZOFFSETFROM:-0500
TZOFFSETTO:-0600
TZNAME:CST
DTSTART:20251102T070000
END:STANDARD
BEGIN:DAYLIGHT
TZOFFSETFROM:-0600
TZOFFSETTO:-0500
TZNAME:CDT
DTSTART:20260308T080000
END:DAYLIGHT
BEGIN:STANDARD
TZOFFSETFROM:-0500
TZOFFSETTO:-0600
TZNAME:CST
DTSTART:20261101T070000
END:STANDARD
BEGIN:DAYLIGHT
TZOFFSETFROM:-0600
TZOFFSETTO:-0500
TZNAME:CDT
DTSTART:20270314T080000
END:DAYLIGHT
BEGIN:STANDARD
TZOFFSETFROM:-0500
TZOFFSETTO:-0600
TZNAME:CST
DTSTART:20271107T070000
END:STANDARD
END:VTIMEZONE
BEGIN:VEVENT
DTSTART;TZID=America/Chicago:20260114T100000
DTEND;TZID=America/Chicago:20260114T110000
DTSTAMP:20260423T063335
CREATED:20260104T180813Z
LAST-MODIFIED:20260104T180813Z
UID:10008732-1768384800-1768388400@felivelife.org
SUMMARY:Midweek Mingle and Learn
DESCRIPTION:Midweek Mingle & Learn is back this Wednesday\, January 7th at 10am at the Mercer Senior Center 2518 Martha Lake Rd.Rebecca Holm with Extension Iron County and designer of the new Iron County website\, will introduce the site and demonstrate how to easily find county resources and services online. \nSee the flyer below for information about programming for the rest of January.
URL:https://felivelife.org/event/midweek-mingle-and-learn-5/2026-01-14/
LOCATION:Mercer Senior Center\, 2518 Martha Lake Road\, Mercer\, WI\, 54547
CATEGORIES:Community Events,Education
ATTACH;FMTTYPE=image/jpeg:https://felivelife.org/wp-content/uploads/2026/01/midweek-mingle-January.jpg
END:VEVENT
END:VCALENDAR