BEGIN:VCALENDAR
VERSION:2.0
PRODID:-//FeLiveLife - ECPv6.15.12//NONSGML v1.0//EN
CALSCALE:GREGORIAN
METHOD:PUBLISH
X-WR-CALNAME:FeLiveLife
X-ORIGINAL-URL:https://felivelife.org
X-WR-CALDESC:Events for FeLiveLife
REFRESH-INTERVAL;VALUE=DURATION:PT1H
X-Robots-Tag:noindex
X-PUBLISHED-TTL:PT1H
BEGIN:VTIMEZONE
TZID:America/Chicago
BEGIN:DAYLIGHT
TZOFFSETFROM:-0600
TZOFFSETTO:-0500
TZNAME:CDT
DTSTART:20250309T080000
END:DAYLIGHT
BEGIN:STANDARD
TZOFFSETFROM:-0500
TZOFFSETTO:-0600
TZNAME:CST
DTSTART:20251102T070000
END:STANDARD
BEGIN:DAYLIGHT
TZOFFSETFROM:-0600
TZOFFSETTO:-0500
TZNAME:CDT
DTSTART:20260308T080000
END:DAYLIGHT
BEGIN:STANDARD
TZOFFSETFROM:-0500
TZOFFSETTO:-0600
TZNAME:CST
DTSTART:20261101T070000
END:STANDARD
BEGIN:DAYLIGHT
TZOFFSETFROM:-0600
TZOFFSETTO:-0500
TZNAME:CDT
DTSTART:20270314T080000
END:DAYLIGHT
BEGIN:STANDARD
TZOFFSETFROM:-0500
TZOFFSETTO:-0600
TZNAME:CST
DTSTART:20271107T070000
END:STANDARD
END:VTIMEZONE
BEGIN:VEVENT
DTSTART;VALUE=DATE:20260422
DTEND;VALUE=DATE:20260423
DTSTAMP:20260423T090413
CREATED:20260423T020303Z
LAST-MODIFIED:20260423T020516Z
UID:18170-1776816000-1776902399@felivelife.org
SUMMARY:Norrie Park Community Garden Sign Up
DESCRIPTION:It’s time to sign up for plots at the Norrie Park Community Garden for the 2026 season. \n  \nPlots are rented out at $30 each. \nThose with food assistance cards may apply for a free plot. \n  \nFor information and an application please call Sue at 847-529-2423 or attend our annual kick=off meeting on May 11\, 2026 at 6:30 pm at the American Legion Post #5 location in the Ironwood Memorial Building \n  \nDeadline to submit an application is May 11\, 2026.
URL:https://felivelife.org/event/norrie-park-community-garden-sign-up/2026-04-22/
LOCATION:Norrie Park Community Garden\, Ironwood\, IL\, United States
CATEGORIES:Outdoor & Recreation
ATTACH;FMTTYPE=image/jpeg:https://felivelife.org/wp-content/uploads/2026/04/Norrie-Park-Community-Garden-2026.jpg
ORGANIZER;CN="Norrie Park Community Garden Volunteers":MAILTO:smdavey@sbcglobal.net
GEO:40.6331249;-89.3985283
END:VEVENT
END:VCALENDAR