BEGIN:VCALENDAR
VERSION:2.0
PRODID:-//FeLiveLife - ECPv6.15.12//NONSGML v1.0//EN
CALSCALE:GREGORIAN
METHOD:PUBLISH
X-WR-CALNAME:FeLiveLife
X-ORIGINAL-URL:https://felivelife.org
X-WR-CALDESC:Events for FeLiveLife
REFRESH-INTERVAL;VALUE=DURATION:PT1H
X-Robots-Tag:noindex
X-PUBLISHED-TTL:PT1H
BEGIN:VTIMEZONE
TZID:America/Chicago
BEGIN:DAYLIGHT
TZOFFSETFROM:-0600
TZOFFSETTO:-0500
TZNAME:CDT
DTSTART:20240310T080000
END:DAYLIGHT
BEGIN:STANDARD
TZOFFSETFROM:-0500
TZOFFSETTO:-0600
TZNAME:CST
DTSTART:20241103T070000
END:STANDARD
BEGIN:DAYLIGHT
TZOFFSETFROM:-0600
TZOFFSETTO:-0500
TZNAME:CDT
DTSTART:20250309T080000
END:DAYLIGHT
BEGIN:STANDARD
TZOFFSETFROM:-0500
TZOFFSETTO:-0600
TZNAME:CST
DTSTART:20251102T070000
END:STANDARD
BEGIN:DAYLIGHT
TZOFFSETFROM:-0600
TZOFFSETTO:-0500
TZNAME:CDT
DTSTART:20260308T080000
END:DAYLIGHT
BEGIN:STANDARD
TZOFFSETFROM:-0500
TZOFFSETTO:-0600
TZNAME:CST
DTSTART:20261101T070000
END:STANDARD
END:VTIMEZONE
BEGIN:VEVENT
DTSTART;TZID=America/Chicago:20251025T130000
DTEND;TZID=America/Chicago:20251025T160000
DTSTAMP:20260420T053117
CREATED:20251012T212129Z
LAST-MODIFIED:20251012T212129Z
UID:12005-1761397200-1761408000@felivelife.org
SUMMARY:Not Your Average Meat Raffle
DESCRIPTION:Support the Gladys M. Doucette Scholarship Fund and have a great time doing it. \nCome out and get yourselves a paddle and participate in the Not Your Average Meat Raffle at Club 77 on Saturday\, October 25th. \nThe fundraiser runs from 1 – 4ish and will include several special events. \nNOTE – YOU MUST BE 21 OR OLDER TO GET A PADDLE. 
URL:https://felivelife.org/event/not-your-average-meat-raffle/
LOCATION:Club 77\, 6729 Highway 77\, Pence\, WI\, 54550\, United States
CATEGORIES:Community Events,Fundraising
ATTACH;FMTTYPE=image/jpeg:https://felivelife.org/wp-content/uploads/2025/10/77-meat-raffle.jpg
ORGANIZER;CN="Club 77":MAILTO:club77.pence@gmail.com
GEO:46.415852;-90.272272
X-APPLE-STRUCTURED-LOCATION;VALUE=URI;X-ADDRESS=Club 77 6729 Highway 77 Pence WI 54550 United States;X-APPLE-RADIUS=500;X-TITLE=6729 Highway 77:geo:-90.272272,46.415852
END:VEVENT
END:VCALENDAR