BEGIN:VCALENDAR
VERSION:2.0
PRODID:-//FeLiveLife - ECPv6.15.12//NONSGML v1.0//EN
CALSCALE:GREGORIAN
METHOD:PUBLISH
X-WR-CALNAME:FeLiveLife
X-ORIGINAL-URL:https://felivelife.org
X-WR-CALDESC:Events for FeLiveLife
REFRESH-INTERVAL;VALUE=DURATION:PT1H
X-Robots-Tag:noindex
X-PUBLISHED-TTL:PT1H
BEGIN:VTIMEZONE
TZID:America/Chicago
BEGIN:DAYLIGHT
TZOFFSETFROM:-0600
TZOFFSETTO:-0500
TZNAME:CDT
DTSTART:20240310T080000
END:DAYLIGHT
BEGIN:STANDARD
TZOFFSETFROM:-0500
TZOFFSETTO:-0600
TZNAME:CST
DTSTART:20241103T070000
END:STANDARD
BEGIN:DAYLIGHT
TZOFFSETFROM:-0600
TZOFFSETTO:-0500
TZNAME:CDT
DTSTART:20250309T080000
END:DAYLIGHT
BEGIN:STANDARD
TZOFFSETFROM:-0500
TZOFFSETTO:-0600
TZNAME:CST
DTSTART:20251102T070000
END:STANDARD
BEGIN:DAYLIGHT
TZOFFSETFROM:-0600
TZOFFSETTO:-0500
TZNAME:CDT
DTSTART:20260308T080000
END:DAYLIGHT
BEGIN:STANDARD
TZOFFSETFROM:-0500
TZOFFSETTO:-0600
TZNAME:CST
DTSTART:20261101T070000
END:STANDARD
END:VTIMEZONE
BEGIN:VEVENT
DTSTART;TZID=America/Chicago:20250703T190000
DTEND;TZID=America/Chicago:20250703T200000
DTSTAMP:20260424T034850
CREATED:20250613T172253Z
LAST-MODIFIED:20250617T163016Z
UID:8169-1751569200-1751572800@felivelife.org
SUMMARY:Outdoor Band Concert
DESCRIPTION:On July 3\, 2025 from 7 – 8 pm\, the Gogebic Range Concert Band will provide a free outdoor concert at the old pavilion in Eddy Park\, Wakefield.  The about 25-member band will perform a mix of patriotic tunes and marches to celebrate Independence Day. \nBring a lawn chair or blanket and enjoy an hour of live community band music as part of the Wakefield 4th of July events.
URL:https://felivelife.org/event/outdoor-band-concert/
LOCATION:Eddy Park\, 300 Eddy Park RD\, Wakefield\, MI\, 49968
CATEGORIES:Arts & Culture,Community Events
ATTACH;FMTTYPE=image/jpeg:https://felivelife.org/wp-content/uploads/2025/06/June4_23ConcertDepot-scaled-k0PhFw.jpg
END:VEVENT
END:VCALENDAR