BEGIN:VCALENDAR
VERSION:2.0
PRODID:-//FeLiveLife - ECPv6.15.12//NONSGML v1.0//EN
CALSCALE:GREGORIAN
METHOD:PUBLISH
X-WR-CALNAME:FeLiveLife
X-ORIGINAL-URL:https://felivelife.org
X-WR-CALDESC:Events for FeLiveLife
REFRESH-INTERVAL;VALUE=DURATION:PT1H
X-Robots-Tag:noindex
X-PUBLISHED-TTL:PT1H
BEGIN:VTIMEZONE
TZID:America/Chicago
BEGIN:DAYLIGHT
TZOFFSETFROM:-0600
TZOFFSETTO:-0500
TZNAME:CDT
DTSTART:20250309T080000
END:DAYLIGHT
BEGIN:STANDARD
TZOFFSETFROM:-0500
TZOFFSETTO:-0600
TZNAME:CST
DTSTART:20251102T070000
END:STANDARD
BEGIN:DAYLIGHT
TZOFFSETFROM:-0600
TZOFFSETTO:-0500
TZNAME:CDT
DTSTART:20260308T080000
END:DAYLIGHT
BEGIN:STANDARD
TZOFFSETFROM:-0500
TZOFFSETTO:-0600
TZNAME:CST
DTSTART:20261101T070000
END:STANDARD
BEGIN:DAYLIGHT
TZOFFSETFROM:-0600
TZOFFSETTO:-0500
TZNAME:CDT
DTSTART:20270314T080000
END:DAYLIGHT
BEGIN:STANDARD
TZOFFSETFROM:-0500
TZOFFSETTO:-0600
TZNAME:CST
DTSTART:20271107T070000
END:STANDARD
END:VTIMEZONE
BEGIN:VEVENT
DTSTART;TZID=America/Chicago:20260223T100000
DTEND;TZID=America/Chicago:20260223T110000
DTSTAMP:20260424T081219
CREATED:20251023T004346Z
LAST-MODIFIED:20251023T004346Z
UID:10007643-1771840800-1771844400@felivelife.org
SUMMARY:Playgroup
DESCRIPTION:Back by popular demand!\n\n\nPlaygroup- Mondays\, 10:00 AM at BAHS\n\n\nLittles are invited to come tumble\, play\, run\, and socialize — while parents get a chance to chat and connect too!\n\nThis year\, we’re welcoming older kiddos to hang out in our second studio for some quieter fun & socialization\, like board games\, etc.\n\nSupervision is required\, but there’s no cost to attend.\n\nPlease note\, Playgroup may occasionally be canceled due to Miss Bethany’s hectic appointment schedule\, so be sure to check the studio Facebook page or join our Playgroup text list for updates.
URL:https://felivelife.org/event/playgroup-4/2026-02-23/
LOCATION:Bethany Ann Hellen Studios\, 629 W. Cloverland Drive\, Ironwood\, 49938
CATEGORIES:Community Events
ATTACH;FMTTYPE=image/jpeg:https://felivelife.org/wp-content/uploads/2025/10/playgroup-fall.jpg
ORGANIZER;CN="Bethany Ann Hellen Studios":MAILTO:bethanyhellen@att.net
END:VEVENT
END:VCALENDAR