BEGIN:VCALENDAR
VERSION:2.0
PRODID:-//FeLiveLife - ECPv6.15.12//NONSGML v1.0//EN
CALSCALE:GREGORIAN
METHOD:PUBLISH
X-WR-CALNAME:FeLiveLife
X-ORIGINAL-URL:https://felivelife.org
X-WR-CALDESC:Events for FeLiveLife
REFRESH-INTERVAL;VALUE=DURATION:PT1H
X-Robots-Tag:noindex
X-PUBLISHED-TTL:PT1H
BEGIN:VTIMEZONE
TZID:America/Chicago
BEGIN:DAYLIGHT
TZOFFSETFROM:-0600
TZOFFSETTO:-0500
TZNAME:CDT
DTSTART:20250309T080000
END:DAYLIGHT
BEGIN:STANDARD
TZOFFSETFROM:-0500
TZOFFSETTO:-0600
TZNAME:CST
DTSTART:20251102T070000
END:STANDARD
BEGIN:DAYLIGHT
TZOFFSETFROM:-0600
TZOFFSETTO:-0500
TZNAME:CDT
DTSTART:20260308T080000
END:DAYLIGHT
BEGIN:STANDARD
TZOFFSETFROM:-0500
TZOFFSETTO:-0600
TZNAME:CST
DTSTART:20261101T070000
END:STANDARD
BEGIN:DAYLIGHT
TZOFFSETFROM:-0600
TZOFFSETTO:-0500
TZNAME:CDT
DTSTART:20270314T080000
END:DAYLIGHT
BEGIN:STANDARD
TZOFFSETFROM:-0500
TZOFFSETTO:-0600
TZNAME:CST
DTSTART:20271107T070000
END:STANDARD
END:VTIMEZONE
BEGIN:VEVENT
DTSTART;VALUE=DATE:20260516
DTEND;VALUE=DATE:20260517
DTSTAMP:20260423T050850
CREATED:20260221T203142Z
LAST-MODIFIED:20260221T203142Z
UID:10009839-1778889600-1778975999@felivelife.org
SUMMARY:Poker Run & ATV/UTV Ride
DESCRIPTION:Be sure to get this Spring Poker Run on your calendar. \nMay 14\, 15\, and 16\, 2026 Dutch’s Bar in Marenisco is organizing one heck of an event. \nSee the flyer below for additional information.
URL:https://felivelife.org/event/poker-run-atv-utv-ride/2026-05-16/
LOCATION:Dutch’s Bar\, 337 Fair Avenue\, Marensico\, MI\, 49947
CATEGORIES:Entertainment,Outdoor & Recreation
ATTACH;FMTTYPE=image/jpeg:https://felivelife.org/wp-content/uploads/2026/02/dutchs-atv.jpg
END:VEVENT
END:VCALENDAR