BEGIN:VCALENDAR
VERSION:2.0
PRODID:-//FeLiveLife - ECPv6.15.12//NONSGML v1.0//EN
CALSCALE:GREGORIAN
METHOD:PUBLISH
X-WR-CALNAME:FeLiveLife
X-ORIGINAL-URL:https://felivelife.org
X-WR-CALDESC:Events for FeLiveLife
REFRESH-INTERVAL;VALUE=DURATION:PT1H
X-Robots-Tag:noindex
X-PUBLISHED-TTL:PT1H
BEGIN:VTIMEZONE
TZID:America/Chicago
BEGIN:DAYLIGHT
TZOFFSETFROM:-0600
TZOFFSETTO:-0500
TZNAME:CDT
DTSTART:20250309T080000
END:DAYLIGHT
BEGIN:STANDARD
TZOFFSETFROM:-0500
TZOFFSETTO:-0600
TZNAME:CST
DTSTART:20251102T070000
END:STANDARD
BEGIN:DAYLIGHT
TZOFFSETFROM:-0600
TZOFFSETTO:-0500
TZNAME:CDT
DTSTART:20260308T080000
END:DAYLIGHT
BEGIN:STANDARD
TZOFFSETFROM:-0500
TZOFFSETTO:-0600
TZNAME:CST
DTSTART:20261101T070000
END:STANDARD
BEGIN:DAYLIGHT
TZOFFSETFROM:-0600
TZOFFSETTO:-0500
TZNAME:CDT
DTSTART:20270314T080000
END:DAYLIGHT
BEGIN:STANDARD
TZOFFSETFROM:-0500
TZOFFSETTO:-0600
TZNAME:CST
DTSTART:20271107T070000
END:STANDARD
END:VTIMEZONE
BEGIN:VEVENT
DTSTART;TZID=America/Chicago:20260117T130000
DTEND;TZID=America/Chicago:20260117T170000
DTSTAMP:20260424T063549
CREATED:20260118T162603Z
LAST-MODIFIED:20260118T162603Z
UID:14929-1768654800-1768669200@felivelife.org
SUMMARY:Samsons Home Basketball Games
DESCRIPTION:Are you looking for some fun this weekend? Your very own Samsons will be playing at home and we would LOVE for you to join us in cheering them on! We will be offering FREE ADMISSION to both the men’s and women’s games\, so let’s pack the house. The Samsons will be taking on MN North-Rainy River\, with the ladies game starting at 1pm\, followed by the men at 3pm. Sam will be on hand for the kiddos! \nIf you can’t make it to the game\, visit the livestream: https://fan.hudl.com/…/organization/46905/gogebic-cc
URL:https://felivelife.org/event/samsons-home-basketball-games-2/
LOCATION:Gogebic Community College Lindquist Center\, E4946 Jackson Road\, Ironwood\, MI\, 49938
CATEGORIES:Community Events,Outdoor & Recreation
ATTACH;FMTTYPE=image/png:https://felivelife.org/wp-content/uploads/2026/01/SamsonsBB01-17-26.png
END:VEVENT
END:VCALENDAR