BEGIN:VCALENDAR
VERSION:2.0
PRODID:-//FeLiveLife - ECPv6.15.12//NONSGML v1.0//EN
CALSCALE:GREGORIAN
METHOD:PUBLISH
X-WR-CALNAME:FeLiveLife
X-ORIGINAL-URL:https://felivelife.org
X-WR-CALDESC:Events for FeLiveLife
REFRESH-INTERVAL;VALUE=DURATION:PT1H
X-Robots-Tag:noindex
X-PUBLISHED-TTL:PT1H
BEGIN:VTIMEZONE
TZID:America/Chicago
BEGIN:DAYLIGHT
TZOFFSETFROM:-0600
TZOFFSETTO:-0500
TZNAME:CDT
DTSTART:20250309T080000
END:DAYLIGHT
BEGIN:STANDARD
TZOFFSETFROM:-0500
TZOFFSETTO:-0600
TZNAME:CST
DTSTART:20251102T070000
END:STANDARD
BEGIN:DAYLIGHT
TZOFFSETFROM:-0600
TZOFFSETTO:-0500
TZNAME:CDT
DTSTART:20260308T080000
END:DAYLIGHT
BEGIN:STANDARD
TZOFFSETFROM:-0500
TZOFFSETTO:-0600
TZNAME:CST
DTSTART:20261101T070000
END:STANDARD
BEGIN:DAYLIGHT
TZOFFSETFROM:-0600
TZOFFSETTO:-0500
TZNAME:CDT
DTSTART:20270314T080000
END:DAYLIGHT
BEGIN:STANDARD
TZOFFSETFROM:-0500
TZOFFSETTO:-0600
TZNAME:CST
DTSTART:20271107T070000
END:STANDARD
END:VTIMEZONE
BEGIN:VEVENT
DTSTART;TZID=America/Chicago:20260228T160000
DTEND;TZID=America/Chicago:20260228T190000
DTSTAMP:20260420T041241
CREATED:20260221T191013Z
LAST-MODIFIED:20260221T191013Z
UID:16065-1772294400-1772305200@felivelife.org
SUMMARY:Spaghetti Fundraiser
DESCRIPTION: Spaghetti Fundraiser – Supporting Our VFW! Join us at the VFW Post – 4299 Old Hwy 51\, Mercer\, WI on: Saturday\, February 28\, 2026 4:00 PM – 7:00 PMCome out for a great homemade spaghetti dinner and help support our Veterans right here in Mercer! Adults: $15 Children: $8 Tickets available in advance or at the door 50/50 Raffle Basket RafflesBring your family\, bring your friends\, and bring your appetite! Let’s pack the Post\, enjoy a great meal\, and show our veterans the support they deserve. We hope to see you there! \n 
URL:https://felivelife.org/event/spaghetti-fundraiser/
LOCATION:VFW Post 9536 – Mercer\, WI\, 4299 Old Hwy 51 S\, Mercer\, WI\, 54547
ATTACH;FMTTYPE=image/jpeg:https://felivelife.org/wp-content/uploads/2026/02/mercer-spaghetti-vfw.jpg
GEO:46.1332365;-90.0156549
X-APPLE-STRUCTURED-LOCATION;VALUE=URI;X-ADDRESS=VFW Post 9536 – Mercer WI 4299 Old Hwy 51 S Mercer WI 54547;X-APPLE-RADIUS=500;X-TITLE=4299 Old Hwy 51 S:geo:-90.0156549,46.1332365
END:VEVENT
END:VCALENDAR