BEGIN:VCALENDAR
VERSION:2.0
PRODID:-//FeLiveLife - ECPv6.15.12//NONSGML v1.0//EN
CALSCALE:GREGORIAN
METHOD:PUBLISH
X-WR-CALNAME:FeLiveLife
X-ORIGINAL-URL:https://felivelife.org
X-WR-CALDESC:Events for FeLiveLife
REFRESH-INTERVAL;VALUE=DURATION:PT1H
X-Robots-Tag:noindex
X-PUBLISHED-TTL:PT1H
BEGIN:VTIMEZONE
TZID:America/Chicago
BEGIN:DAYLIGHT
TZOFFSETFROM:-0600
TZOFFSETTO:-0500
TZNAME:CDT
DTSTART:20240310T080000
END:DAYLIGHT
BEGIN:STANDARD
TZOFFSETFROM:-0500
TZOFFSETTO:-0600
TZNAME:CST
DTSTART:20241103T070000
END:STANDARD
BEGIN:DAYLIGHT
TZOFFSETFROM:-0600
TZOFFSETTO:-0500
TZNAME:CDT
DTSTART:20250309T080000
END:DAYLIGHT
BEGIN:STANDARD
TZOFFSETFROM:-0500
TZOFFSETTO:-0600
TZNAME:CST
DTSTART:20251102T070000
END:STANDARD
BEGIN:DAYLIGHT
TZOFFSETFROM:-0600
TZOFFSETTO:-0500
TZNAME:CDT
DTSTART:20260308T080000
END:DAYLIGHT
BEGIN:STANDARD
TZOFFSETFROM:-0500
TZOFFSETTO:-0600
TZNAME:CST
DTSTART:20261101T070000
END:STANDARD
END:VTIMEZONE
BEGIN:VEVENT
DTSTART;TZID=America/Chicago:20250617T090000
DTEND;TZID=America/Chicago:20250617T143000
DTSTAMP:20260424T063502
CREATED:20250617T010803Z
LAST-MODIFIED:20250617T022204Z
UID:10004096-1750150800-1750170600@felivelife.org
SUMMARY:Summer Youth Programs
DESCRIPTION:Ignite Your Summer! Explore Careers & Skills at GCC’s Summer Youth Programs!\nDescription:\nGet ready for an AMAZING summer adventure at Gogebic Community College! From June 16-19\, 2025\, dive into exciting\, affordable\, and engaging programs designed to spark your curiosity and help you discover potential career paths.\nWhat to Expect:\nHands-on Learning: Experience engaging activities led by experienced instructors.\nCareer Exploration: Discover exciting careers in healthcare\, manufacturing\, marketing\, and more!\nAll-Inclusive: All supplies\, snacks\, and lunches are provided!\nConvenient Transportation: Bus transportation will be available.\nTRIO Scholarship: FREE camp for current and new TRIO students!\nApply to TRIO for a chance to attend for FREE! Contact trio@mtu.edu or call 906-487-2219 for TRIO applications.\nRegister for the Summer Youth Program and apply your TRIO code at checkout!\nDates & Times:\nJune 16-19\, 2025\n9:00 AM – 2:30 PM daily\nLocation:\nGogebic Community College – E4946 Jackson Rd\, Ironwood\, MI 49938\nRegistration: https://gogebic.coursestorm.com/category/summer-youth-camps\nRegistration opens March 10\, 2025! Limited seating is available\, so sign up early!\nQuestions?\nContact Monica at SYP.GCC.GOISD@gogebic.edu or 906-307-1316
URL:https://felivelife.org/event/summer-youth-programs-4/2025-06-17/
LOCATION:Gogebic Community College
CATEGORIES:Education
ATTACH;FMTTYPE=image/png:https://felivelife.org/wp-content/uploads/2025/05/SYP25-Facebook-Cover-Photo-Facebook-Post-r3DMGa.png
END:VEVENT
END:VCALENDAR