BEGIN:VCALENDAR
VERSION:2.0
PRODID:-//FeLiveLife - ECPv6.15.12//NONSGML v1.0//EN
CALSCALE:GREGORIAN
METHOD:PUBLISH
X-WR-CALNAME:FeLiveLife
X-ORIGINAL-URL:https://felivelife.org
X-WR-CALDESC:Events for FeLiveLife
REFRESH-INTERVAL;VALUE=DURATION:PT1H
X-Robots-Tag:noindex
X-PUBLISHED-TTL:PT1H
BEGIN:VTIMEZONE
TZID:America/Chicago
BEGIN:DAYLIGHT
TZOFFSETFROM:-0600
TZOFFSETTO:-0500
TZNAME:CDT
DTSTART:20240310T080000
END:DAYLIGHT
BEGIN:STANDARD
TZOFFSETFROM:-0500
TZOFFSETTO:-0600
TZNAME:CST
DTSTART:20241103T070000
END:STANDARD
BEGIN:DAYLIGHT
TZOFFSETFROM:-0600
TZOFFSETTO:-0500
TZNAME:CDT
DTSTART:20250309T080000
END:DAYLIGHT
BEGIN:STANDARD
TZOFFSETFROM:-0500
TZOFFSETTO:-0600
TZNAME:CST
DTSTART:20251102T070000
END:STANDARD
BEGIN:DAYLIGHT
TZOFFSETFROM:-0600
TZOFFSETTO:-0500
TZNAME:CDT
DTSTART:20260308T080000
END:DAYLIGHT
BEGIN:STANDARD
TZOFFSETFROM:-0500
TZOFFSETTO:-0600
TZNAME:CST
DTSTART:20261101T070000
END:STANDARD
END:VTIMEZONE
BEGIN:VEVENT
DTSTART;TZID=America/Chicago:20251023T183000
DTEND;TZID=America/Chicago:20251023T203000
DTSTAMP:20260419T104900
CREATED:20250821T113953Z
LAST-MODIFIED:20251023T012702Z
UID:10007660-1761244200-1761251400@felivelife.org
SUMMARY:Trivia Night
DESCRIPTION:Liberty Way Tap House is back with trivia Thursday on select Thursday nights! \nAny teams of 2-6 are welcome to join. \nPut all that knowledge from mindless scrolling to use! \nIT’S FREE TO PLAY!
URL:https://felivelife.org/event/trivia-night-4/2025-10-23/
LOCATION:Liberty Way Tap House\, 2040W Saarnio Road\, Mercer\, WI\, 54547
CATEGORIES:Community Events,Entertainment
ATTACH;FMTTYPE=image/jpeg:https://felivelife.org/wp-content/uploads/2025/05/trivia-liberty-yU1u4X.jpg
ORGANIZER;CN="Liberty Way Tap House":MAILTO:mike@libertywaytap.com
END:VEVENT
END:VCALENDAR