BEGIN:VCALENDAR
VERSION:2.0
PRODID:-//FeLiveLife - ECPv6.15.12//NONSGML v1.0//EN
CALSCALE:GREGORIAN
METHOD:PUBLISH
X-WR-CALNAME:FeLiveLife
X-ORIGINAL-URL:https://felivelife.org
X-WR-CALDESC:Events for FeLiveLife
REFRESH-INTERVAL;VALUE=DURATION:PT1H
X-Robots-Tag:noindex
X-PUBLISHED-TTL:PT1H
BEGIN:VTIMEZONE
TZID:America/Chicago
BEGIN:DAYLIGHT
TZOFFSETFROM:-0600
TZOFFSETTO:-0500
TZNAME:CDT
DTSTART:20250309T080000
END:DAYLIGHT
BEGIN:STANDARD
TZOFFSETFROM:-0500
TZOFFSETTO:-0600
TZNAME:CST
DTSTART:20251102T070000
END:STANDARD
BEGIN:DAYLIGHT
TZOFFSETFROM:-0600
TZOFFSETTO:-0500
TZNAME:CDT
DTSTART:20260308T080000
END:DAYLIGHT
BEGIN:STANDARD
TZOFFSETFROM:-0500
TZOFFSETTO:-0600
TZNAME:CST
DTSTART:20261101T070000
END:STANDARD
BEGIN:DAYLIGHT
TZOFFSETFROM:-0600
TZOFFSETTO:-0500
TZNAME:CDT
DTSTART:20270314T080000
END:DAYLIGHT
BEGIN:STANDARD
TZOFFSETFROM:-0500
TZOFFSETTO:-0600
TZNAME:CST
DTSTART:20271107T070000
END:STANDARD
END:VTIMEZONE
BEGIN:VEVENT
DTSTART;TZID=America/Chicago:20260206T130000
DTEND;TZID=America/Chicago:20260206T150000
DTSTAMP:20260420T054823
CREATED:20260128T145436Z
LAST-MODIFIED:20260128T145436Z
UID:15219-1770382800-1770390000@felivelife.org
SUMMARY:Valentines Card Workshop
DESCRIPTION:Drop by the Northwoods Hub (Mercer Senior Center) this Monday anytime between 10:30- Noon and make a Valentine’s card\, or two\, or more! We’ll have all the supplies for you to create something special for a veteran\, a senior\, a friend\, or a loved one. No charge\, no registration required. \nThere will be a workshop on February 6th from 1- 3PM dedicated to creating Valentines for seniors. \nSee the poster below for additional information.
URL:https://felivelife.org/event/valentines-card-workshop/
LOCATION:Northwoods Hub\, 2518 Martha Lake Road\, Mercer\, Wis\, 54547
CATEGORIES:Arts & Culture,Community Events
ATTACH;FMTTYPE=image/jpeg:https://felivelife.org/wp-content/uploads/2026/01/valentines-for-seniors.jpg
GEO:46.1655219;-90.0554375
X-APPLE-STRUCTURED-LOCATION;VALUE=URI;X-ADDRESS=Northwoods Hub 2518 Martha Lake Road Mercer Wis 54547;X-APPLE-RADIUS=500;X-TITLE=2518 Martha Lake Road:geo:-90.0554375,46.1655219
END:VEVENT
END:VCALENDAR