BEGIN:VCALENDAR
VERSION:2.0
PRODID:-//FeLiveLife - ECPv6.15.12//NONSGML v1.0//EN
CALSCALE:GREGORIAN
METHOD:PUBLISH
X-WR-CALNAME:FeLiveLife
X-ORIGINAL-URL:https://felivelife.org
X-WR-CALDESC:Events for FeLiveLife
REFRESH-INTERVAL;VALUE=DURATION:PT1H
X-Robots-Tag:noindex
X-PUBLISHED-TTL:PT1H
BEGIN:VTIMEZONE
TZID:America/Chicago
BEGIN:DAYLIGHT
TZOFFSETFROM:-0600
TZOFFSETTO:-0500
TZNAME:CDT
DTSTART:20250309T080000
END:DAYLIGHT
BEGIN:STANDARD
TZOFFSETFROM:-0500
TZOFFSETTO:-0600
TZNAME:CST
DTSTART:20251102T070000
END:STANDARD
BEGIN:DAYLIGHT
TZOFFSETFROM:-0600
TZOFFSETTO:-0500
TZNAME:CDT
DTSTART:20260308T080000
END:DAYLIGHT
BEGIN:STANDARD
TZOFFSETFROM:-0500
TZOFFSETTO:-0600
TZNAME:CST
DTSTART:20261101T070000
END:STANDARD
BEGIN:DAYLIGHT
TZOFFSETFROM:-0600
TZOFFSETTO:-0500
TZNAME:CDT
DTSTART:20270314T080000
END:DAYLIGHT
BEGIN:STANDARD
TZOFFSETFROM:-0500
TZOFFSETTO:-0600
TZNAME:CST
DTSTART:20271107T070000
END:STANDARD
END:VTIMEZONE
BEGIN:VEVENT
DTSTART;TZID=America/Chicago:20260214T090000
DTEND;TZID=America/Chicago:20260214T170000
DTSTAMP:20260419T095003
CREATED:20260111T172210Z
LAST-MODIFIED:20260111T172210Z
UID:14699-1771059600-1771088400@felivelife.org
SUMMARY:Wakefield Fire Department Annual Ice Fishing Contest
DESCRIPTION:Ice Fishing Contest\nFishing Contest starts at 11:00 AM and goes until 4:00 PM.\nDoors/Registration opens at 9:00 AM.\nDrill your own hole.\nSeveral Fish Divisions.\nLive bait available.\nWakefield V.F.W.\nExcellent Raffle Prizes\, Every Registered Person\, gets a door prize\, Fishing\, Food and fun! \nTakes part in cooperation of Michigan’s Free Fishing Weekend! NO Michigan Fishing Licenses are required\, however\, Michigan Fishing Rules do apply! \nLow Registration fee to keep costs down for a day filled with family fun! \n 
URL:https://felivelife.org/event/wakefield-fire-department-annual-ice-fishing-contest/
LOCATION:Wakefield VFW Post 9084\, 107 US-2\, Wakefield\, 49968
CATEGORIES:Community Events
ATTACH;FMTTYPE=image/jpeg:https://felivelife.org/wp-content/uploads/2026/01/Fire-Department-Ice-Fishing-Contest.jpg
END:VEVENT
END:VCALENDAR