BEGIN:VCALENDAR
VERSION:2.0
PRODID:-//FeLiveLife - ECPv6.15.12//NONSGML v1.0//EN
CALSCALE:GREGORIAN
METHOD:PUBLISH
X-WR-CALNAME:FeLiveLife
X-ORIGINAL-URL:https://felivelife.org
X-WR-CALDESC:Events for FeLiveLife
REFRESH-INTERVAL;VALUE=DURATION:PT1H
X-Robots-Tag:noindex
X-PUBLISHED-TTL:PT1H
BEGIN:VTIMEZONE
TZID:America/Chicago
BEGIN:DAYLIGHT
TZOFFSETFROM:-0600
TZOFFSETTO:-0500
TZNAME:CDT
DTSTART:20240310T080000
END:DAYLIGHT
BEGIN:STANDARD
TZOFFSETFROM:-0500
TZOFFSETTO:-0600
TZNAME:CST
DTSTART:20241103T070000
END:STANDARD
BEGIN:DAYLIGHT
TZOFFSETFROM:-0600
TZOFFSETTO:-0500
TZNAME:CDT
DTSTART:20250309T080000
END:DAYLIGHT
BEGIN:STANDARD
TZOFFSETFROM:-0500
TZOFFSETTO:-0600
TZNAME:CST
DTSTART:20251102T070000
END:STANDARD
BEGIN:DAYLIGHT
TZOFFSETFROM:-0600
TZOFFSETTO:-0500
TZNAME:CDT
DTSTART:20260308T080000
END:DAYLIGHT
BEGIN:STANDARD
TZOFFSETFROM:-0500
TZOFFSETTO:-0600
TZNAME:CST
DTSTART:20261101T070000
END:STANDARD
END:VTIMEZONE
BEGIN:VEVENT
DTSTART;TZID=America/Chicago:20250130T000000
DTEND;TZID=America/Chicago:20250130T000000
DTSTAMP:20260420T054843
CREATED:20250506T180238Z
LAST-MODIFIED:20250506T180238Z
UID:4337-1738195200-1738195200@felivelife.org
SUMMARY:Willy's Winterfest
DESCRIPTION:It’s time for the 2nd Annual Willy’s Winterfest at Willy’s Still!\nZoom on in on Saturday\, February 15th\, starting at 2 PM for the Older Budweiser Band. \nStay for games\, fun\, and more!
URL:https://felivelife.org/event/willys-winterfest/
ATTACH;FMTTYPE=image/jpeg:https://felivelife.org/wp-content/uploads/2025/05/winter-willyfest-5rYVr9.jpg
END:VEVENT
END:VCALENDAR