BEGIN:VCALENDAR
VERSION:2.0
PRODID:-//FeLiveLife - ECPv6.15.12//NONSGML v1.0//EN
CALSCALE:GREGORIAN
METHOD:PUBLISH
X-WR-CALNAME:FeLiveLife
X-ORIGINAL-URL:https://felivelife.org
X-WR-CALDESC:Events for FeLiveLife
REFRESH-INTERVAL;VALUE=DURATION:PT1H
X-Robots-Tag:noindex
X-PUBLISHED-TTL:PT1H
BEGIN:VTIMEZONE
TZID:America/Chicago
BEGIN:DAYLIGHT
TZOFFSETFROM:-0600
TZOFFSETTO:-0500
TZNAME:CDT
DTSTART:20250309T080000
END:DAYLIGHT
BEGIN:STANDARD
TZOFFSETFROM:-0500
TZOFFSETTO:-0600
TZNAME:CST
DTSTART:20251102T070000
END:STANDARD
BEGIN:DAYLIGHT
TZOFFSETFROM:-0600
TZOFFSETTO:-0500
TZNAME:CDT
DTSTART:20260308T080000
END:DAYLIGHT
BEGIN:STANDARD
TZOFFSETFROM:-0500
TZOFFSETTO:-0600
TZNAME:CST
DTSTART:20261101T070000
END:STANDARD
BEGIN:DAYLIGHT
TZOFFSETFROM:-0600
TZOFFSETTO:-0500
TZNAME:CDT
DTSTART:20270314T080000
END:DAYLIGHT
BEGIN:STANDARD
TZOFFSETFROM:-0500
TZOFFSETTO:-0600
TZNAME:CST
DTSTART:20271107T070000
END:STANDARD
END:VTIMEZONE
BEGIN:VEVENT
DTSTART;TZID=America/Chicago:20260321T183000
DTEND;TZID=America/Chicago:20260321T203000
DTSTAMP:20260419T084236
CREATED:20260301T175934Z
LAST-MODIFIED:20260301T175934Z
UID:10009893-1774117800-1774125000@felivelife.org
SUMMARY:WUMC Movie Nights - FREE
DESCRIPTION:New projector – large screen – surround sound! \nAnd the movies are FREE. \nJoin Wesley United Methodist Church in Ironwood for FREE MOVIE NIGHTS in March. \nThe movie\, popcorn\, and drinks are free.  Candy is available for purchase. \nSee you 6:30 PM on March 7\, 21\, and 28 for classic 80’s films! \n \n 
URL:https://felivelife.org/event/wumc-movie-nights-free/2026-03-21/
LOCATION:Wesley United Methodist Church\, 500 E. McLeod St.\, Ironwood\, MI\, 49938
CATEGORIES:Arts & Culture,Community Events,Entertainment
ATTACH;FMTTYPE=image/png:https://felivelife.org/wp-content/uploads/2026/03/MOVIE-NIGHT-@-WUMC.png
ORGANIZER;CN="Wesley United Methodist Church":MAILTO:ironwoodumc@gmail.com
END:VEVENT
END:VCALENDAR