BEGIN:VCALENDAR
VERSION:2.0
PRODID:-//FeLiveLife - ECPv6.15.12//NONSGML v1.0//EN
CALSCALE:GREGORIAN
METHOD:PUBLISH
X-WR-CALNAME:FeLiveLife
X-ORIGINAL-URL:https://felivelife.org
X-WR-CALDESC:Events for FeLiveLife
REFRESH-INTERVAL;VALUE=DURATION:PT1H
X-Robots-Tag:noindex
X-PUBLISHED-TTL:PT1H
BEGIN:VTIMEZONE
TZID:America/Chicago
BEGIN:DAYLIGHT
TZOFFSETFROM:-0600
TZOFFSETTO:-0500
TZNAME:CDT
DTSTART:20250309T080000
END:DAYLIGHT
BEGIN:STANDARD
TZOFFSETFROM:-0500
TZOFFSETTO:-0600
TZNAME:CST
DTSTART:20251102T070000
END:STANDARD
BEGIN:DAYLIGHT
TZOFFSETFROM:-0600
TZOFFSETTO:-0500
TZNAME:CDT
DTSTART:20260308T080000
END:DAYLIGHT
BEGIN:STANDARD
TZOFFSETFROM:-0500
TZOFFSETTO:-0600
TZNAME:CST
DTSTART:20261101T070000
END:STANDARD
BEGIN:DAYLIGHT
TZOFFSETFROM:-0600
TZOFFSETTO:-0500
TZNAME:CDT
DTSTART:20270314T080000
END:DAYLIGHT
BEGIN:STANDARD
TZOFFSETFROM:-0500
TZOFFSETTO:-0600
TZNAME:CST
DTSTART:20271107T070000
END:STANDARD
END:VTIMEZONE
BEGIN:VEVENT
DTSTART;TZID=America/Chicago:20260717T090000
DTEND;TZID=America/Chicago:20260717T120000
DTSTAMP:20260419T112615
CREATED:20260315T220825Z
LAST-MODIFIED:20260315T220825Z
UID:10009950-1784278800-1784289600@felivelife.org
SUMMARY:Youth Foundational Skills Soccer Camp
DESCRIPTION:Youth Foundational Skills Soccer Camp is back!\nDates: Monday\, July 13 – Friday\, July 17\nTime: 9:00a-Noon\n\n\nAges: 6-16\n\n\nLocation: Airport Soccer Fields\, Ironwood\, MI\nRegistration: $155\n\n\nRead about camp here: https://ayso.bluesombrero.com/Default.aspx?tabid=973787\n\n\nRegister now!\nhttps://challenger.configio.com/…/range-strikers-ayso…
URL:https://felivelife.org/event/youth-foundational-skills-soccer-camp/2026-07-17/
LOCATION:Ironwood Township Airport Park\, E5550 Airport Road\, Ironwood\, MI\, 49938
CATEGORIES:Outdoor & Recreation
ATTACH;FMTTYPE=image/jpeg:https://felivelife.org/wp-content/uploads/2026/03/range-soccer-camp.jpg
ORGANIZER;CN="Range Strikers Soccer Club":MAILTO:rangestrikers@gmail.com
END:VEVENT
END:VCALENDAR