BEGIN:VCALENDAR
VERSION:2.0
PRODID:-//FeLiveLife - ECPv6.15.12//NONSGML v1.0//EN
CALSCALE:GREGORIAN
METHOD:PUBLISH
X-WR-CALNAME:FeLiveLife
X-ORIGINAL-URL:https://felivelife.org
X-WR-CALDESC:Events for FeLiveLife
REFRESH-INTERVAL;VALUE=DURATION:PT1H
X-Robots-Tag:noindex
X-PUBLISHED-TTL:PT1H
BEGIN:VTIMEZONE
TZID:America/Chicago
BEGIN:DAYLIGHT
TZOFFSETFROM:-0600
TZOFFSETTO:-0500
TZNAME:CDT
DTSTART:20250309T080000
END:DAYLIGHT
BEGIN:STANDARD
TZOFFSETFROM:-0500
TZOFFSETTO:-0600
TZNAME:CST
DTSTART:20251102T070000
END:STANDARD
BEGIN:DAYLIGHT
TZOFFSETFROM:-0600
TZOFFSETTO:-0500
TZNAME:CDT
DTSTART:20260308T080000
END:DAYLIGHT
BEGIN:STANDARD
TZOFFSETFROM:-0500
TZOFFSETTO:-0600
TZNAME:CST
DTSTART:20261101T070000
END:STANDARD
BEGIN:DAYLIGHT
TZOFFSETFROM:-0600
TZOFFSETTO:-0500
TZNAME:CDT
DTSTART:20270314T080000
END:DAYLIGHT
BEGIN:STANDARD
TZOFFSETFROM:-0500
TZOFFSETTO:-0600
TZNAME:CST
DTSTART:20271107T070000
END:STANDARD
END:VTIMEZONE
BEGIN:VEVENT
DTSTART;TZID=America/Chicago:20260307T050000
DTEND;TZID=America/Chicago:20260307T150000
DTSTAMP:20260422T055722
CREATED:20260217T232023Z
LAST-MODIFIED:20260217T232023Z
UID:10009544-1772859600-1772895600@felivelife.org
SUMMARY:43rd Annual Ice Fishing Derby
DESCRIPTION:Come enjoy this Family Friendly event. \nThe 43rd Annual Ice Fishing Derby is the longest running annual ice fishing derby in the Western Upper Peninsula of Michigan.\nEntry fee is $40/person and includes AUCE Homemade Chili & Chicken Dumpling Soup. \nALSO a chance at winning a door prize. \nRe-register by March 1st to be qualified for the Early Bird Drawing worth $50 CASH. \nTo Register\, Mail pre-registration\, see attached\, or stop in main Lodge to sign up. Enjoy a Day on Beautiful Lake Gogebic. ! \n 
URL:https://felivelife.org/event/43rd-annual-ice-fishing-derby/
LOCATION:Lake Gogebic
CATEGORIES:Community Events,Outdoor & Recreation
ATTACH;FMTTYPE=image/png:https://felivelife.org/wp-content/uploads/2026/02/GL-derby.png
ORGANIZER;CN="Gogebic Lodge":MAILTO:gogebiclodge@alphacomm.net
END:VEVENT
END:VCALENDAR