BEGIN:VCALENDAR
VERSION:2.0
PRODID:-//FeLiveLife - ECPv6.15.12//NONSGML v1.0//EN
CALSCALE:GREGORIAN
METHOD:PUBLISH
X-WR-CALNAME:FeLiveLife
X-ORIGINAL-URL:https://felivelife.org
X-WR-CALDESC:Events for FeLiveLife
REFRESH-INTERVAL;VALUE=DURATION:PT1H
X-Robots-Tag:noindex
X-PUBLISHED-TTL:PT1H
BEGIN:VTIMEZONE
TZID:America/Chicago
BEGIN:DAYLIGHT
TZOFFSETFROM:-0600
TZOFFSETTO:-0500
TZNAME:CDT
DTSTART:20240310T080000
END:DAYLIGHT
BEGIN:STANDARD
TZOFFSETFROM:-0500
TZOFFSETTO:-0600
TZNAME:CST
DTSTART:20241103T070000
END:STANDARD
BEGIN:DAYLIGHT
TZOFFSETFROM:-0600
TZOFFSETTO:-0500
TZNAME:CDT
DTSTART:20250309T080000
END:DAYLIGHT
BEGIN:STANDARD
TZOFFSETFROM:-0500
TZOFFSETTO:-0600
TZNAME:CST
DTSTART:20251102T070000
END:STANDARD
BEGIN:DAYLIGHT
TZOFFSETFROM:-0600
TZOFFSETTO:-0500
TZNAME:CDT
DTSTART:20260308T080000
END:DAYLIGHT
BEGIN:STANDARD
TZOFFSETFROM:-0500
TZOFFSETTO:-0600
TZNAME:CST
DTSTART:20261101T070000
END:STANDARD
END:VTIMEZONE
BEGIN:VEVENT
DTSTART;TZID=America/Chicago:20250616T090000
DTEND;TZID=America/Chicago:20250616T120000
DTSTAMP:20260423T064102
CREATED:20250617T010331Z
LAST-MODIFIED:20250617T010331Z
UID:10004089-1750064400-1750075200@felivelife.org
SUMMARY:Samsons Basketball Camp 2025
DESCRIPTION:Samsons Basketball Camp registration is open! \nSession 1 is June 16th – 18th and is designed for students in 3-6 grade in the upcoming school year\,  9AM – 12PM \nSession 2 is June 23rd – 25th and is open to students in 7-12 grade in the next school year\, 9AM – 12PM \nSign your kids up for these exciting sessions led by your very own Samsons head coaches! \nREGISTRATIONS ARE ENCOURAGED BY JUNE 2ND FOR T-SHIRT ORDERING.Follow this link for more information and the sign-up form: https://gogebic.edu/news/samsons_basketballcamp.html \nThe cost is $80 per registrant\, and $50 for each additional family member. \n 
URL:https://felivelife.org/event/samsons-basketball-camp-2025/2025-06-16/
LOCATION:Gogebic Community College Lindquist Center\, E4946 Jackson Road\, Ironwood\, MI\, 49938
ATTACH;FMTTYPE=image/jpeg:https://felivelife.org/wp-content/uploads/2025/06/gcc-bball-camp.jpg
END:VEVENT
END:VCALENDAR