BEGIN:VCALENDAR
VERSION:2.0
PRODID:-//FeLiveLife - ECPv6.15.12//NONSGML v1.0//EN
CALSCALE:GREGORIAN
METHOD:PUBLISH
X-ORIGINAL-URL:https://felivelife.org
X-WR-CALDESC:Events for FeLiveLife
REFRESH-INTERVAL;VALUE=DURATION:PT1H
X-Robots-Tag:noindex
X-PUBLISHED-TTL:PT1H
BEGIN:VTIMEZONE
TZID:America/Chicago
BEGIN:DAYLIGHT
TZOFFSETFROM:-0600
TZOFFSETTO:-0500
TZNAME:CDT
DTSTART:20250309T080000
END:DAYLIGHT
BEGIN:STANDARD
TZOFFSETFROM:-0500
TZOFFSETTO:-0600
TZNAME:CST
DTSTART:20251102T070000
END:STANDARD
BEGIN:DAYLIGHT
TZOFFSETFROM:-0600
TZOFFSETTO:-0500
TZNAME:CDT
DTSTART:20260308T080000
END:DAYLIGHT
BEGIN:STANDARD
TZOFFSETFROM:-0500
TZOFFSETTO:-0600
TZNAME:CST
DTSTART:20261101T070000
END:STANDARD
BEGIN:DAYLIGHT
TZOFFSETFROM:-0600
TZOFFSETTO:-0500
TZNAME:CDT
DTSTART:20270314T080000
END:DAYLIGHT
BEGIN:STANDARD
TZOFFSETFROM:-0500
TZOFFSETTO:-0600
TZNAME:CST
DTSTART:20271107T070000
END:STANDARD
END:VTIMEZONE
BEGIN:VEVENT
DTSTART;TZID=America/Chicago:20260502T163000
DTEND;TZID=America/Chicago:20260502T203000
DTSTAMP:20260421T061616
CREATED:20260421T010614Z
LAST-MODIFIED:20260421T010614Z
UID:10010296-1777739400-1777753800@felivelife.org
SUMMARY:10th Annual Kentucky Derby Party
DESCRIPTION:Live entertainment by Tuck Pence starting at 4:30 at Yukon 51 on Saturday\, May 2nd. \nGet your derby hat ready for competition at 8pm! 1st place $50 Yukon certificate\, 2nd place $25 Yukon certificate! \nMint juleps\, $2 cans of beer\, duck pick\, selfie station and more!
URL:https://felivelife.org/event/10th-annual-kentucky-derby-party/
LOCATION:Yukon 51\, 7936 N Hwy 51\, Hurley\, WI\, 54534
CATEGORIES:Entertainment
ATTACH;FMTTYPE=image/jpeg:https://felivelife.org/wp-content/uploads/2026/04/yukon-derby-26.jpg
END:VEVENT
END:VCALENDAR