BEGIN:VCALENDAR
VERSION:2.0
PRODID:-//FeLiveLife - ECPv6.15.12//NONSGML v1.0//EN
CALSCALE:GREGORIAN
METHOD:PUBLISH
X-ORIGINAL-URL:https://felivelife.org
X-WR-CALDESC:Events for FeLiveLife
REFRESH-INTERVAL;VALUE=DURATION:PT1H
X-Robots-Tag:noindex
X-PUBLISHED-TTL:PT1H
BEGIN:VTIMEZONE
TZID:America/Chicago
BEGIN:DAYLIGHT
TZOFFSETFROM:-0600
TZOFFSETTO:-0500
TZNAME:CDT
DTSTART:20260308T080000
END:DAYLIGHT
BEGIN:STANDARD
TZOFFSETFROM:-0500
TZOFFSETTO:-0600
TZNAME:CST
DTSTART:20261101T070000
END:STANDARD
BEGIN:DAYLIGHT
TZOFFSETFROM:-0600
TZOFFSETTO:-0500
TZNAME:CDT
DTSTART:20270314T080000
END:DAYLIGHT
BEGIN:STANDARD
TZOFFSETFROM:-0500
TZOFFSETTO:-0600
TZNAME:CST
DTSTART:20271107T070000
END:STANDARD
BEGIN:DAYLIGHT
TZOFFSETFROM:-0600
TZOFFSETTO:-0500
TZNAME:CDT
DTSTART:20280312T080000
END:DAYLIGHT
BEGIN:STANDARD
TZOFFSETFROM:-0500
TZOFFSETTO:-0600
TZNAME:CST
DTSTART:20281105T070000
END:STANDARD
BEGIN:DAYLIGHT
TZOFFSETFROM:-0600
TZOFFSETTO:-0500
TZNAME:CDT
DTSTART:20290311T080000
END:DAYLIGHT
BEGIN:STANDARD
TZOFFSETFROM:-0500
TZOFFSETTO:-0600
TZNAME:CST
DTSTART:20291104T070000
END:STANDARD
END:VTIMEZONE
BEGIN:VEVENT
DTSTART;TZID=America/Chicago:20270707T183000
DTEND;TZID=America/Chicago:20270707T203000
DTSTAMP:20260422T054254
CREATED:20260401T131041Z
LAST-MODIFIED:20260401T131041Z
UID:10010045-1814985000-1814992200@felivelife.org
SUMMARY:Team Trivia
DESCRIPTION:Team Trivia consists of teams of 6 or less members\nFree to play\nNew teams are always welcome to come play.
URL:https://felivelife.org/event/team-trivia-2/2027-07-07/
LOCATION:Cold Iron Brewing\, 104 S Lowell St\, Ironwood\, MI\, 49938
CATEGORIES:Entertainment
ATTACH;FMTTYPE=image/png:https://felivelife.org/wp-content/uploads/2026/03/White-Bold-Closure-Announcement-Instagram-Post.png
END:VEVENT
BEGIN:VEVENT
DTSTART;TZID=America/Chicago:20270721T183000
DTEND;TZID=America/Chicago:20270721T203000
DTSTAMP:20260422T054254
CREATED:20260401T131041Z
LAST-MODIFIED:20260401T131041Z
UID:10010046-1816194600-1816201800@felivelife.org
SUMMARY:Team Trivia
DESCRIPTION:Team Trivia consists of teams of 6 or less members\nFree to play\nNew teams are always welcome to come play.
URL:https://felivelife.org/event/team-trivia-2/2027-07-21/
LOCATION:Cold Iron Brewing\, 104 S Lowell St\, Ironwood\, MI\, 49938
CATEGORIES:Entertainment
ATTACH;FMTTYPE=image/png:https://felivelife.org/wp-content/uploads/2026/03/White-Bold-Closure-Announcement-Instagram-Post.png
END:VEVENT
BEGIN:VEVENT
DTSTART;TZID=America/Chicago:20270804T183000
DTEND;TZID=America/Chicago:20270804T203000
DTSTAMP:20260422T054254
CREATED:20260401T131041Z
LAST-MODIFIED:20260401T131041Z
UID:10010047-1817404200-1817411400@felivelife.org
SUMMARY:Team Trivia
DESCRIPTION:Team Trivia consists of teams of 6 or less members\nFree to play\nNew teams are always welcome to come play.
URL:https://felivelife.org/event/team-trivia-2/2027-08-04/
LOCATION:Cold Iron Brewing\, 104 S Lowell St\, Ironwood\, MI\, 49938
CATEGORIES:Entertainment
ATTACH;FMTTYPE=image/png:https://felivelife.org/wp-content/uploads/2026/03/White-Bold-Closure-Announcement-Instagram-Post.png
END:VEVENT
BEGIN:VEVENT
DTSTART;TZID=America/Chicago:20270818T183000
DTEND;TZID=America/Chicago:20270818T203000
DTSTAMP:20260422T054254
CREATED:20260401T131041Z
LAST-MODIFIED:20260401T131041Z
UID:10010048-1818613800-1818621000@felivelife.org
SUMMARY:Team Trivia
DESCRIPTION:Team Trivia consists of teams of 6 or less members\nFree to play\nNew teams are always welcome to come play.
URL:https://felivelife.org/event/team-trivia-2/2027-08-18/
LOCATION:Cold Iron Brewing\, 104 S Lowell St\, Ironwood\, MI\, 49938
CATEGORIES:Entertainment
ATTACH;FMTTYPE=image/png:https://felivelife.org/wp-content/uploads/2026/03/White-Bold-Closure-Announcement-Instagram-Post.png
END:VEVENT
BEGIN:VEVENT
DTSTART;TZID=America/Chicago:20270901T183000
DTEND;TZID=America/Chicago:20270901T203000
DTSTAMP:20260422T054254
CREATED:20260401T131041Z
LAST-MODIFIED:20260401T131041Z
UID:10010049-1819823400-1819830600@felivelife.org
SUMMARY:Team Trivia
DESCRIPTION:Team Trivia consists of teams of 6 or less members\nFree to play\nNew teams are always welcome to come play.
URL:https://felivelife.org/event/team-trivia-2/2027-09-01/
LOCATION:Cold Iron Brewing\, 104 S Lowell St\, Ironwood\, MI\, 49938
CATEGORIES:Entertainment
ATTACH;FMTTYPE=image/png:https://felivelife.org/wp-content/uploads/2026/03/White-Bold-Closure-Announcement-Instagram-Post.png
END:VEVENT
BEGIN:VEVENT
DTSTART;TZID=America/Chicago:20270915T183000
DTEND;TZID=America/Chicago:20270915T203000
DTSTAMP:20260422T054254
CREATED:20260401T131041Z
LAST-MODIFIED:20260401T131041Z
UID:10010050-1821033000-1821040200@felivelife.org
SUMMARY:Team Trivia
DESCRIPTION:Team Trivia consists of teams of 6 or less members\nFree to play\nNew teams are always welcome to come play.
URL:https://felivelife.org/event/team-trivia-2/2027-09-15/
LOCATION:Cold Iron Brewing\, 104 S Lowell St\, Ironwood\, MI\, 49938
CATEGORIES:Entertainment
ATTACH;FMTTYPE=image/png:https://felivelife.org/wp-content/uploads/2026/03/White-Bold-Closure-Announcement-Instagram-Post.png
END:VEVENT
BEGIN:VEVENT
DTSTART;TZID=America/Chicago:20270929T183000
DTEND;TZID=America/Chicago:20270929T203000
DTSTAMP:20260422T054254
CREATED:20260401T131041Z
LAST-MODIFIED:20260401T131041Z
UID:10010051-1822242600-1822249800@felivelife.org
SUMMARY:Team Trivia
DESCRIPTION:Team Trivia consists of teams of 6 or less members\nFree to play\nNew teams are always welcome to come play.
URL:https://felivelife.org/event/team-trivia-2/2027-09-29/
LOCATION:Cold Iron Brewing\, 104 S Lowell St\, Ironwood\, MI\, 49938
CATEGORIES:Entertainment
ATTACH;FMTTYPE=image/png:https://felivelife.org/wp-content/uploads/2026/03/White-Bold-Closure-Announcement-Instagram-Post.png
END:VEVENT
BEGIN:VEVENT
DTSTART;TZID=America/Chicago:20271013T183000
DTEND;TZID=America/Chicago:20271013T203000
DTSTAMP:20260422T054254
CREATED:20260401T131041Z
LAST-MODIFIED:20260401T131041Z
UID:10010052-1823452200-1823459400@felivelife.org
SUMMARY:Team Trivia
DESCRIPTION:Team Trivia consists of teams of 6 or less members\nFree to play\nNew teams are always welcome to come play.
URL:https://felivelife.org/event/team-trivia-2/2027-10-13/
LOCATION:Cold Iron Brewing\, 104 S Lowell St\, Ironwood\, MI\, 49938
CATEGORIES:Entertainment
ATTACH;FMTTYPE=image/png:https://felivelife.org/wp-content/uploads/2026/03/White-Bold-Closure-Announcement-Instagram-Post.png
END:VEVENT
BEGIN:VEVENT
DTSTART;TZID=America/Chicago:20271027T183000
DTEND;TZID=America/Chicago:20271027T203000
DTSTAMP:20260422T054254
CREATED:20260401T131041Z
LAST-MODIFIED:20260401T131041Z
UID:10010053-1824661800-1824669000@felivelife.org
SUMMARY:Team Trivia
DESCRIPTION:Team Trivia consists of teams of 6 or less members\nFree to play\nNew teams are always welcome to come play.
URL:https://felivelife.org/event/team-trivia-2/2027-10-27/
LOCATION:Cold Iron Brewing\, 104 S Lowell St\, Ironwood\, MI\, 49938
CATEGORIES:Entertainment
ATTACH;FMTTYPE=image/png:https://felivelife.org/wp-content/uploads/2026/03/White-Bold-Closure-Announcement-Instagram-Post.png
END:VEVENT
BEGIN:VEVENT
DTSTART;TZID=America/Chicago:20271110T183000
DTEND;TZID=America/Chicago:20271110T203000
DTSTAMP:20260422T054254
CREATED:20260401T131041Z
LAST-MODIFIED:20260401T131041Z
UID:10010054-1825871400-1825878600@felivelife.org
SUMMARY:Team Trivia
DESCRIPTION:Team Trivia consists of teams of 6 or less members\nFree to play\nNew teams are always welcome to come play.
URL:https://felivelife.org/event/team-trivia-2/2027-11-10/
LOCATION:Cold Iron Brewing\, 104 S Lowell St\, Ironwood\, MI\, 49938
CATEGORIES:Entertainment
ATTACH;FMTTYPE=image/png:https://felivelife.org/wp-content/uploads/2026/03/White-Bold-Closure-Announcement-Instagram-Post.png
END:VEVENT
BEGIN:VEVENT
DTSTART;TZID=America/Chicago:20271124T183000
DTEND;TZID=America/Chicago:20271124T203000
DTSTAMP:20260422T054254
CREATED:20260401T131041Z
LAST-MODIFIED:20260401T131041Z
UID:10010055-1827081000-1827088200@felivelife.org
SUMMARY:Team Trivia
DESCRIPTION:Team Trivia consists of teams of 6 or less members\nFree to play\nNew teams are always welcome to come play.
URL:https://felivelife.org/event/team-trivia-2/2027-11-24/
LOCATION:Cold Iron Brewing\, 104 S Lowell St\, Ironwood\, MI\, 49938
CATEGORIES:Entertainment
ATTACH;FMTTYPE=image/png:https://felivelife.org/wp-content/uploads/2026/03/White-Bold-Closure-Announcement-Instagram-Post.png
END:VEVENT
BEGIN:VEVENT
DTSTART;TZID=America/Chicago:20271208T183000
DTEND;TZID=America/Chicago:20271208T203000
DTSTAMP:20260422T054254
CREATED:20260401T131041Z
LAST-MODIFIED:20260401T131041Z
UID:10010056-1828290600-1828297800@felivelife.org
SUMMARY:Team Trivia
DESCRIPTION:Team Trivia consists of teams of 6 or less members\nFree to play\nNew teams are always welcome to come play.
URL:https://felivelife.org/event/team-trivia-2/2027-12-08/
LOCATION:Cold Iron Brewing\, 104 S Lowell St\, Ironwood\, MI\, 49938
CATEGORIES:Entertainment
ATTACH;FMTTYPE=image/png:https://felivelife.org/wp-content/uploads/2026/03/White-Bold-Closure-Announcement-Instagram-Post.png
END:VEVENT
BEGIN:VEVENT
DTSTART;TZID=America/Chicago:20271222T183000
DTEND;TZID=America/Chicago:20271222T203000
DTSTAMP:20260422T054254
CREATED:20260401T131041Z
LAST-MODIFIED:20260401T131041Z
UID:10010057-1829500200-1829507400@felivelife.org
SUMMARY:Team Trivia
DESCRIPTION:Team Trivia consists of teams of 6 or less members\nFree to play\nNew teams are always welcome to come play.
URL:https://felivelife.org/event/team-trivia-2/2027-12-22/
LOCATION:Cold Iron Brewing\, 104 S Lowell St\, Ironwood\, MI\, 49938
CATEGORIES:Entertainment
ATTACH;FMTTYPE=image/png:https://felivelife.org/wp-content/uploads/2026/03/White-Bold-Closure-Announcement-Instagram-Post.png
END:VEVENT
BEGIN:VEVENT
DTSTART;TZID=America/Chicago:20280105T183000
DTEND;TZID=America/Chicago:20280105T203000
DTSTAMP:20260422T054254
CREATED:20260401T131041Z
LAST-MODIFIED:20260401T131041Z
UID:10010058-1830709800-1830717000@felivelife.org
SUMMARY:Team Trivia
DESCRIPTION:Team Trivia consists of teams of 6 or less members\nFree to play\nNew teams are always welcome to come play.
URL:https://felivelife.org/event/team-trivia-2/2028-01-05/
LOCATION:Cold Iron Brewing\, 104 S Lowell St\, Ironwood\, MI\, 49938
CATEGORIES:Entertainment
ATTACH;FMTTYPE=image/png:https://felivelife.org/wp-content/uploads/2026/03/White-Bold-Closure-Announcement-Instagram-Post.png
END:VEVENT
BEGIN:VEVENT
DTSTART;TZID=America/Chicago:20280119T183000
DTEND;TZID=America/Chicago:20280119T203000
DTSTAMP:20260422T054254
CREATED:20260401T131041Z
LAST-MODIFIED:20260401T131041Z
UID:10010059-1831919400-1831926600@felivelife.org
SUMMARY:Team Trivia
DESCRIPTION:Team Trivia consists of teams of 6 or less members\nFree to play\nNew teams are always welcome to come play.
URL:https://felivelife.org/event/team-trivia-2/2028-01-19/
LOCATION:Cold Iron Brewing\, 104 S Lowell St\, Ironwood\, MI\, 49938
CATEGORIES:Entertainment
ATTACH;FMTTYPE=image/png:https://felivelife.org/wp-content/uploads/2026/03/White-Bold-Closure-Announcement-Instagram-Post.png
END:VEVENT
BEGIN:VEVENT
DTSTART;TZID=America/Chicago:20280202T183000
DTEND;TZID=America/Chicago:20280202T203000
DTSTAMP:20260422T054254
CREATED:20260401T131041Z
LAST-MODIFIED:20260401T131041Z
UID:10010060-1833129000-1833136200@felivelife.org
SUMMARY:Team Trivia
DESCRIPTION:Team Trivia consists of teams of 6 or less members\nFree to play\nNew teams are always welcome to come play.
URL:https://felivelife.org/event/team-trivia-2/2028-02-02/
LOCATION:Cold Iron Brewing\, 104 S Lowell St\, Ironwood\, MI\, 49938
CATEGORIES:Entertainment
ATTACH;FMTTYPE=image/png:https://felivelife.org/wp-content/uploads/2026/03/White-Bold-Closure-Announcement-Instagram-Post.png
END:VEVENT
BEGIN:VEVENT
DTSTART;TZID=America/Chicago:20280216T183000
DTEND;TZID=America/Chicago:20280216T203000
DTSTAMP:20260422T054254
CREATED:20260401T131041Z
LAST-MODIFIED:20260401T131041Z
UID:10010061-1834338600-1834345800@felivelife.org
SUMMARY:Team Trivia
DESCRIPTION:Team Trivia consists of teams of 6 or less members\nFree to play\nNew teams are always welcome to come play.
URL:https://felivelife.org/event/team-trivia-2/2028-02-16/
LOCATION:Cold Iron Brewing\, 104 S Lowell St\, Ironwood\, MI\, 49938
CATEGORIES:Entertainment
ATTACH;FMTTYPE=image/png:https://felivelife.org/wp-content/uploads/2026/03/White-Bold-Closure-Announcement-Instagram-Post.png
END:VEVENT
BEGIN:VEVENT
DTSTART;TZID=America/Chicago:20280301T183000
DTEND;TZID=America/Chicago:20280301T203000
DTSTAMP:20260422T054254
CREATED:20260401T131041Z
LAST-MODIFIED:20260401T131041Z
UID:10010062-1835548200-1835555400@felivelife.org
SUMMARY:Team Trivia
DESCRIPTION:Team Trivia consists of teams of 6 or less members\nFree to play\nNew teams are always welcome to come play.
URL:https://felivelife.org/event/team-trivia-2/2028-03-01/
LOCATION:Cold Iron Brewing\, 104 S Lowell St\, Ironwood\, MI\, 49938
CATEGORIES:Entertainment
ATTACH;FMTTYPE=image/png:https://felivelife.org/wp-content/uploads/2026/03/White-Bold-Closure-Announcement-Instagram-Post.png
END:VEVENT
BEGIN:VEVENT
DTSTART;TZID=America/Chicago:20280315T183000
DTEND;TZID=America/Chicago:20280315T203000
DTSTAMP:20260422T054254
CREATED:20260401T131041Z
LAST-MODIFIED:20260401T131041Z
UID:10010063-1836757800-1836765000@felivelife.org
SUMMARY:Team Trivia
DESCRIPTION:Team Trivia consists of teams of 6 or less members\nFree to play\nNew teams are always welcome to come play.
URL:https://felivelife.org/event/team-trivia-2/2028-03-15/
LOCATION:Cold Iron Brewing\, 104 S Lowell St\, Ironwood\, MI\, 49938
CATEGORIES:Entertainment
ATTACH;FMTTYPE=image/png:https://felivelife.org/wp-content/uploads/2026/03/White-Bold-Closure-Announcement-Instagram-Post.png
END:VEVENT
BEGIN:VEVENT
DTSTART;TZID=America/Chicago:20280329T183000
DTEND;TZID=America/Chicago:20280329T203000
DTSTAMP:20260422T054254
CREATED:20260401T131041Z
LAST-MODIFIED:20260401T131041Z
UID:10010064-1837967400-1837974600@felivelife.org
SUMMARY:Team Trivia
DESCRIPTION:Team Trivia consists of teams of 6 or less members\nFree to play\nNew teams are always welcome to come play.
URL:https://felivelife.org/event/team-trivia-2/2028-03-29/
LOCATION:Cold Iron Brewing\, 104 S Lowell St\, Ironwood\, MI\, 49938
CATEGORIES:Entertainment
ATTACH;FMTTYPE=image/png:https://felivelife.org/wp-content/uploads/2026/03/White-Bold-Closure-Announcement-Instagram-Post.png
END:VEVENT
BEGIN:VEVENT
DTSTART;TZID=America/Chicago:20280412T183000
DTEND;TZID=America/Chicago:20280412T203000
DTSTAMP:20260422T054254
CREATED:20260401T131041Z
LAST-MODIFIED:20260401T131041Z
UID:10010065-1839177000-1839184200@felivelife.org
SUMMARY:Team Trivia
DESCRIPTION:Team Trivia consists of teams of 6 or less members\nFree to play\nNew teams are always welcome to come play.
URL:https://felivelife.org/event/team-trivia-2/2028-04-12/
LOCATION:Cold Iron Brewing\, 104 S Lowell St\, Ironwood\, MI\, 49938
CATEGORIES:Entertainment
ATTACH;FMTTYPE=image/png:https://felivelife.org/wp-content/uploads/2026/03/White-Bold-Closure-Announcement-Instagram-Post.png
END:VEVENT
BEGIN:VEVENT
DTSTART;TZID=America/Chicago:20280426T183000
DTEND;TZID=America/Chicago:20280426T203000
DTSTAMP:20260422T054254
CREATED:20260401T131041Z
LAST-MODIFIED:20260401T131041Z
UID:10010066-1840386600-1840393800@felivelife.org
SUMMARY:Team Trivia
DESCRIPTION:Team Trivia consists of teams of 6 or less members\nFree to play\nNew teams are always welcome to come play.
URL:https://felivelife.org/event/team-trivia-2/2028-04-26/
LOCATION:Cold Iron Brewing\, 104 S Lowell St\, Ironwood\, MI\, 49938
CATEGORIES:Entertainment
ATTACH;FMTTYPE=image/png:https://felivelife.org/wp-content/uploads/2026/03/White-Bold-Closure-Announcement-Instagram-Post.png
END:VEVENT
BEGIN:VEVENT
DTSTART;TZID=America/Chicago:20280510T183000
DTEND;TZID=America/Chicago:20280510T203000
DTSTAMP:20260422T054254
CREATED:20260401T131041Z
LAST-MODIFIED:20260401T131041Z
UID:10010067-1841596200-1841603400@felivelife.org
SUMMARY:Team Trivia
DESCRIPTION:Team Trivia consists of teams of 6 or less members\nFree to play\nNew teams are always welcome to come play.
URL:https://felivelife.org/event/team-trivia-2/2028-05-10/
LOCATION:Cold Iron Brewing\, 104 S Lowell St\, Ironwood\, MI\, 49938
CATEGORIES:Entertainment
ATTACH;FMTTYPE=image/png:https://felivelife.org/wp-content/uploads/2026/03/White-Bold-Closure-Announcement-Instagram-Post.png
END:VEVENT
BEGIN:VEVENT
DTSTART;TZID=America/Chicago:20280524T183000
DTEND;TZID=America/Chicago:20280524T203000
DTSTAMP:20260422T054254
CREATED:20260401T131041Z
LAST-MODIFIED:20260401T131041Z
UID:10010068-1842805800-1842813000@felivelife.org
SUMMARY:Team Trivia
DESCRIPTION:Team Trivia consists of teams of 6 or less members\nFree to play\nNew teams are always welcome to come play.
URL:https://felivelife.org/event/team-trivia-2/2028-05-24/
LOCATION:Cold Iron Brewing\, 104 S Lowell St\, Ironwood\, MI\, 49938
CATEGORIES:Entertainment
ATTACH;FMTTYPE=image/png:https://felivelife.org/wp-content/uploads/2026/03/White-Bold-Closure-Announcement-Instagram-Post.png
END:VEVENT
BEGIN:VEVENT
DTSTART;TZID=America/Chicago:20280607T183000
DTEND;TZID=America/Chicago:20280607T203000
DTSTAMP:20260422T054254
CREATED:20260401T131041Z
LAST-MODIFIED:20260401T131041Z
UID:10010069-1844015400-1844022600@felivelife.org
SUMMARY:Team Trivia
DESCRIPTION:Team Trivia consists of teams of 6 or less members\nFree to play\nNew teams are always welcome to come play.
URL:https://felivelife.org/event/team-trivia-2/2028-06-07/
LOCATION:Cold Iron Brewing\, 104 S Lowell St\, Ironwood\, MI\, 49938
CATEGORIES:Entertainment
ATTACH;FMTTYPE=image/png:https://felivelife.org/wp-content/uploads/2026/03/White-Bold-Closure-Announcement-Instagram-Post.png
END:VEVENT
BEGIN:VEVENT
DTSTART;TZID=America/Chicago:20280621T183000
DTEND;TZID=America/Chicago:20280621T203000
DTSTAMP:20260422T054254
CREATED:20260401T131041Z
LAST-MODIFIED:20260401T131041Z
UID:10010070-1845225000-1845232200@felivelife.org
SUMMARY:Team Trivia
DESCRIPTION:Team Trivia consists of teams of 6 or less members\nFree to play\nNew teams are always welcome to come play.
URL:https://felivelife.org/event/team-trivia-2/2028-06-21/
LOCATION:Cold Iron Brewing\, 104 S Lowell St\, Ironwood\, MI\, 49938
CATEGORIES:Entertainment
ATTACH;FMTTYPE=image/png:https://felivelife.org/wp-content/uploads/2026/03/White-Bold-Closure-Announcement-Instagram-Post.png
END:VEVENT
BEGIN:VEVENT
DTSTART;TZID=America/Chicago:20280705T183000
DTEND;TZID=America/Chicago:20280705T203000
DTSTAMP:20260422T054254
CREATED:20260401T131041Z
LAST-MODIFIED:20260401T131041Z
UID:10010071-1846434600-1846441800@felivelife.org
SUMMARY:Team Trivia
DESCRIPTION:Team Trivia consists of teams of 6 or less members\nFree to play\nNew teams are always welcome to come play.
URL:https://felivelife.org/event/team-trivia-2/2028-07-05/
LOCATION:Cold Iron Brewing\, 104 S Lowell St\, Ironwood\, MI\, 49938
CATEGORIES:Entertainment
ATTACH;FMTTYPE=image/png:https://felivelife.org/wp-content/uploads/2026/03/White-Bold-Closure-Announcement-Instagram-Post.png
END:VEVENT
BEGIN:VEVENT
DTSTART;TZID=America/Chicago:20280719T183000
DTEND;TZID=America/Chicago:20280719T203000
DTSTAMP:20260422T054254
CREATED:20260401T131041Z
LAST-MODIFIED:20260401T131041Z
UID:10010072-1847644200-1847651400@felivelife.org
SUMMARY:Team Trivia
DESCRIPTION:Team Trivia consists of teams of 6 or less members\nFree to play\nNew teams are always welcome to come play.
URL:https://felivelife.org/event/team-trivia-2/2028-07-19/
LOCATION:Cold Iron Brewing\, 104 S Lowell St\, Ironwood\, MI\, 49938
CATEGORIES:Entertainment
ATTACH;FMTTYPE=image/png:https://felivelife.org/wp-content/uploads/2026/03/White-Bold-Closure-Announcement-Instagram-Post.png
END:VEVENT
BEGIN:VEVENT
DTSTART;TZID=America/Chicago:20280802T183000
DTEND;TZID=America/Chicago:20280802T203000
DTSTAMP:20260422T054254
CREATED:20260401T131041Z
LAST-MODIFIED:20260401T131041Z
UID:10010073-1848853800-1848861000@felivelife.org
SUMMARY:Team Trivia
DESCRIPTION:Team Trivia consists of teams of 6 or less members\nFree to play\nNew teams are always welcome to come play.
URL:https://felivelife.org/event/team-trivia-2/2028-08-02/
LOCATION:Cold Iron Brewing\, 104 S Lowell St\, Ironwood\, MI\, 49938
CATEGORIES:Entertainment
ATTACH;FMTTYPE=image/png:https://felivelife.org/wp-content/uploads/2026/03/White-Bold-Closure-Announcement-Instagram-Post.png
END:VEVENT
BEGIN:VEVENT
DTSTART;TZID=America/Chicago:20280816T183000
DTEND;TZID=America/Chicago:20280816T203000
DTSTAMP:20260422T054254
CREATED:20260401T131041Z
LAST-MODIFIED:20260401T131041Z
UID:10010074-1850063400-1850070600@felivelife.org
SUMMARY:Team Trivia
DESCRIPTION:Team Trivia consists of teams of 6 or less members\nFree to play\nNew teams are always welcome to come play.
URL:https://felivelife.org/event/team-trivia-2/2028-08-16/
LOCATION:Cold Iron Brewing\, 104 S Lowell St\, Ironwood\, MI\, 49938
CATEGORIES:Entertainment
ATTACH;FMTTYPE=image/png:https://felivelife.org/wp-content/uploads/2026/03/White-Bold-Closure-Announcement-Instagram-Post.png
END:VEVENT
END:VCALENDAR