BEGIN:VCALENDAR
VERSION:2.0
PRODID:-//FeLiveLife - ECPv6.15.12//NONSGML v1.0//EN
CALSCALE:GREGORIAN
METHOD:PUBLISH
X-WR-CALNAME:FeLiveLife
X-ORIGINAL-URL:https://felivelife.org
X-WR-CALDESC:Events for FeLiveLife
REFRESH-INTERVAL;VALUE=DURATION:PT1H
X-Robots-Tag:noindex
X-PUBLISHED-TTL:PT1H
BEGIN:VTIMEZONE
TZID:America/Chicago
BEGIN:DAYLIGHT
TZOFFSETFROM:-0600
TZOFFSETTO:-0500
TZNAME:CDT
DTSTART:20240310T080000
END:DAYLIGHT
BEGIN:STANDARD
TZOFFSETFROM:-0500
TZOFFSETTO:-0600
TZNAME:CST
DTSTART:20241103T070000
END:STANDARD
BEGIN:DAYLIGHT
TZOFFSETFROM:-0600
TZOFFSETTO:-0500
TZNAME:CDT
DTSTART:20250309T080000
END:DAYLIGHT
BEGIN:STANDARD
TZOFFSETFROM:-0500
TZOFFSETTO:-0600
TZNAME:CST
DTSTART:20251102T070000
END:STANDARD
BEGIN:DAYLIGHT
TZOFFSETFROM:-0600
TZOFFSETTO:-0500
TZNAME:CDT
DTSTART:20260308T080000
END:DAYLIGHT
BEGIN:STANDARD
TZOFFSETFROM:-0500
TZOFFSETTO:-0600
TZNAME:CST
DTSTART:20261101T070000
END:STANDARD
BEGIN:DAYLIGHT
TZOFFSETFROM:-0600
TZOFFSETTO:-0500
TZNAME:CDT
DTSTART:20270314T080000
END:DAYLIGHT
BEGIN:STANDARD
TZOFFSETFROM:-0500
TZOFFSETTO:-0600
TZNAME:CST
DTSTART:20271107T070000
END:STANDARD
END:VTIMEZONE
BEGIN:VEVENT
DTSTART;TZID=America/Chicago:20260204T170000
DTEND;TZID=America/Chicago:20260204T180000
DTSTAMP:20260422T055052
CREATED:20260202T010843Z
LAST-MODIFIED:20260202T010843Z
UID:10009405-1770224400-1770228000@felivelife.org
SUMMARY:Wrestling Tournament Planning Meeting
DESCRIPTION:Range Wrestling Academy is hosting a tournament on Sunday\, February 15th at Gogebic Community College. \nIf you are interested in becoming part of the planning or a volunteer\, there is a meeting scheduled for Wednesday\, February 4th at 5:00 PM at Ironwood Public Safety Building.
URL:https://felivelife.org/event/wrestling-tournament-planning-meeting/
LOCATION:Ironwood Public Safety\, 123 West McLeod Ave.\, Ironwood\, MI\, 49938
CATEGORIES:Community Events
ATTACH;FMTTYPE=image/jpeg:https://felivelife.org/wp-content/uploads/2026/02/wrestling-volunteer.jpg
END:VEVENT
BEGIN:VEVENT
DTSTART;TZID=America/Chicago:20260121T170000
DTEND;TZID=America/Chicago:20260121T180000
DTSTAMP:20260422T055052
CREATED:20260111T185637Z
LAST-MODIFIED:20260111T185637Z
UID:10008853-1769014800-1769018400@felivelife.org
SUMMARY:Range Strikers Soccer Club Meeting
DESCRIPTION:Range Strikers Soccer Club Meeting NoticeMeeting Type: Board MeetingDate: Wednesday\, January 21\, 2026Time: 5:00p-6:00pLocation:Ironwood Public Safety Department (IPSD) Conference Room123 W. McLeod Ave\, Ironwood\, MI 49938Range Strikers Soccer ClubAYSO Region 1056Gogebic County MI/Iron County WIEmail: rangestrikers@gmail.comWebsite: https://ayso.bluesombrero.com/region1056
URL:https://felivelife.org/event/range-strikers-soccer-club-meeting/
LOCATION:Ironwood Public Safety\, 123 West McLeod Ave.\, Ironwood\, MI\, 49938
CATEGORIES:Community Events
ATTACH;FMTTYPE=image/jpeg:https://felivelife.org/wp-content/uploads/2026/01/soccer-meeting.jpg
ORGANIZER;CN="Range Strikers Soccer Club":MAILTO:rangestrikers@gmail.com
END:VEVENT
BEGIN:VEVENT
DTSTART;TZID=America/Chicago:20251202T173000
DTEND;TZID=America/Chicago:20251202T183000
DTSTAMP:20260422T055052
CREATED:20251119T014028Z
LAST-MODIFIED:20251119T014028Z
UID:10008551-1764696600-1764700200@felivelife.org
SUMMARY:H.O.P.E. Meeting
DESCRIPTION:HOPE is hosting our 2nd informal\, respectful and productive meeting on Tuesday\, December 2nd at the Ironwood Public Safety Building. Meeting starts at 5:30.\n\n\nWe are looking to partner with the community to gather ideas\, share constructive feedback\, listen to suggestions and provide answers. All are welcome.\n\n\nThank you for your partnership with HOPE.
URL:https://felivelife.org/event/h-o-p-e-meeting/
LOCATION:Ironwood Public Safety\, 123 West McLeod Ave.\, Ironwood\, MI\, 49938
CATEGORIES:Community Events
ATTACH;FMTTYPE=image/png:https://felivelife.org/wp-content/uploads/2025/11/hope-meeting.png
ORGANIZER;CN="HOPE Animal Shelter":MAILTO:myhopeanimalshelter@gmail.com
END:VEVENT
BEGIN:VEVENT
DTSTART;TZID=America/Chicago:20250913T080000
DTEND;TZID=America/Chicago:20250913T110000
DTSTAMP:20260422T055052
CREATED:20250828T112230Z
LAST-MODIFIED:20250828T112230Z
UID:10006873-1757750400-1757761200@felivelife.org
SUMMARY:City of Ironwood Fall Clean Up Days
DESCRIPTION:Annual Fall Clean-Up Days are coming! Mark your calendars for September 12 & 13 and see the flyer below for specific information on household allowances. \nAlso\, check the details below about Ironwood CodeRed Notification System.Stay in the know with important City information through the City’s CodeRed Notification system. You can select to receive alerts via a phone call (landline and/or cell)\, text message\, email\, or push notifications. The free CodeRed app is needed for push notifications.  Sign up here for CodeRed alerts: https://public.coderedweb.com/CNE/BF13D9784BA8 Or text Ironwood to 99411 to register. \n 
URL:https://felivelife.org/event/city-of-ironwood-fall-clean-up-days/2025-09-13/
LOCATION:Ironwood Public Safety\, 123 West McLeod Ave.\, Ironwood\, MI\, 49938
CATEGORIES:Community Events
ATTACH;FMTTYPE=image/jpeg:https://felivelife.org/wp-content/uploads/2025/08/fall-clean-up.jpg
END:VEVENT
BEGIN:VEVENT
DTSTART;TZID=America/Chicago:20250912T080000
DTEND;TZID=America/Chicago:20250912T140000
DTSTAMP:20260422T055052
CREATED:20250828T112230Z
LAST-MODIFIED:20250828T112230Z
UID:10006872-1757664000-1757685600@felivelife.org
SUMMARY:City of Ironwood Fall Clean Up Days
DESCRIPTION:Annual Fall Clean-Up Days are coming! Mark your calendars for September 12 & 13 and see the flyer below for specific information on household allowances. \nAlso\, check the details below about Ironwood CodeRed Notification System.Stay in the know with important City information through the City’s CodeRed Notification system. You can select to receive alerts via a phone call (landline and/or cell)\, text message\, email\, or push notifications. The free CodeRed app is needed for push notifications.  Sign up here for CodeRed alerts: https://public.coderedweb.com/CNE/BF13D9784BA8 Or text Ironwood to 99411 to register. \n 
URL:https://felivelife.org/event/city-of-ironwood-fall-clean-up-days/2025-09-12/
LOCATION:Ironwood Public Safety\, 123 West McLeod Ave.\, Ironwood\, MI\, 49938
CATEGORIES:Community Events
ATTACH;FMTTYPE=image/jpeg:https://felivelife.org/wp-content/uploads/2025/08/fall-clean-up.jpg
END:VEVENT
END:VCALENDAR