BEGIN:VCALENDAR
VERSION:2.0
PRODID:-//FeLiveLife - ECPv6.15.12//NONSGML v1.0//EN
CALSCALE:GREGORIAN
METHOD:PUBLISH
X-WR-CALNAME:FeLiveLife
X-ORIGINAL-URL:https://felivelife.org
X-WR-CALDESC:Events for FeLiveLife
REFRESH-INTERVAL;VALUE=DURATION:PT1H
X-Robots-Tag:noindex
X-PUBLISHED-TTL:PT1H
BEGIN:VTIMEZONE
TZID:America/Chicago
BEGIN:DAYLIGHT
TZOFFSETFROM:-0600
TZOFFSETTO:-0500
TZNAME:CDT
DTSTART:20240310T080000
END:DAYLIGHT
BEGIN:STANDARD
TZOFFSETFROM:-0500
TZOFFSETTO:-0600
TZNAME:CST
DTSTART:20241103T070000
END:STANDARD
BEGIN:DAYLIGHT
TZOFFSETFROM:-0600
TZOFFSETTO:-0500
TZNAME:CDT
DTSTART:20250309T080000
END:DAYLIGHT
BEGIN:STANDARD
TZOFFSETFROM:-0500
TZOFFSETTO:-0600
TZNAME:CST
DTSTART:20251102T070000
END:STANDARD
BEGIN:DAYLIGHT
TZOFFSETFROM:-0600
TZOFFSETTO:-0500
TZNAME:CDT
DTSTART:20260308T080000
END:DAYLIGHT
BEGIN:STANDARD
TZOFFSETFROM:-0500
TZOFFSETTO:-0600
TZNAME:CST
DTSTART:20261101T070000
END:STANDARD
END:VTIMEZONE
BEGIN:VEVENT
DTSTART;TZID=America/Chicago:20251121T170000
DTEND;TZID=America/Chicago:20251121T200000
DTSTAMP:20260425T085714
CREATED:20251113T024955Z
LAST-MODIFIED:20251113T024955Z
UID:10008492-1763744400-1763755200@felivelife.org
SUMMARY:November Dinner for a Cause and Toy Drive
DESCRIPTION:Join the Iron Range GSA in supporting Santa’s Headquarters with our November Dinner for a Cause and toy drive! \nThe main event\, the Pasta Bake Fundraiser Dinner\, will take place on November 21st from 5:00-8:00 pm at the Ironwood Wesley United Methodist Church. \nWe will be serving homemade lasagna\, baked macaroni and cheese\, sides\, drinks\, and dessert. \nThe cost per plate is $10\, but if you bring a donation for the toy drive\, you eat for half price! \nProfits made from this fundraiser will be split 60/40\, with 60% of profits going towards toy donations that the GSA will purchase. The toy drive will run from November 16th to 30th. \nWe will be collecting donations at our November Dinner for a Cause fundraiser and additional hours at the Wesley United Methodist Church\, which will be posted in a separate post. We are excited to see you all there!
URL:https://felivelife.org/event/november-dinner-for-a-cause-and-toy-drive/
LOCATION:Wesley United Methodist Church\, 500 E. McLeod St.\, Ironwood\, MI\, 49938
CATEGORIES:Community Events,Fundraising
ATTACH;FMTTYPE=image/png:https://felivelife.org/wp-content/uploads/2025/11/November.png
END:VEVENT
BEGIN:VEVENT
DTSTART;TZID=America/Chicago:20251030T180000
DTEND;TZID=America/Chicago:20251030T193000
DTSTAMP:20260425T085714
CREATED:20251007T202202Z
LAST-MODIFIED:20251008T202333Z
UID:10007571-1761847200-1761852600@felivelife.org
SUMMARY:Wesley Building Benefit Concert
DESCRIPTION:All are invited to an amazing event at Wesley United Methodist Church in Ironwood. \nThey are offering a concert featuring organist Jared Stellmacher playing familiar\, spooky tunes of the season\, as well as several crowd favorites. \nThe suggested donation is $20 per adult and $10 per student. \nProceed go to support building maintenance.
URL:https://felivelife.org/event/wesley-building-benefit-concert/
LOCATION:Wesley United Methodist Church\, 500 E. McLeod St.\, Ironwood\, MI\, 49938
CATEGORIES:Community Events,Entertainment,Fundraising
ATTACH;FMTTYPE=image/png:https://felivelife.org/wp-content/uploads/2025/10/Moller-Organ-Fund-7.png
ORGANIZER;CN="Wesley United Methodist Church":MAILTO:ironwoodumc@gmail.com
END:VEVENT
BEGIN:VEVENT
DTSTART;TZID=America/Chicago:20250913T130000
DTEND;TZID=America/Chicago:20250913T150000
DTSTAMP:20260425T085714
CREATED:20250828T114213Z
LAST-MODIFIED:20250828T114213Z
UID:10006874-1757768400-1757775600@felivelife.org
SUMMARY:Wesley's Annual Fall Festival
DESCRIPTION:Wesley’s Annual Fall Festival and “Old Tyme Church Bazaar” will be on Saturday\, September 13th from 1pm to 3pm. \nCrafts\, bakery\, and the all-important “white elephants” will be available by donation. \nThere will also be a donation dessert and beverage table and plenty of chairs/tables whereupon to sit\, eat\, and visit with friends. \nLocated in the basement fellowship hall at Wesley. Watch for the sandwich board sign outside on the corner! \n[Note: there is no elevator to the basement hall\, only stairs] \n 
URL:https://felivelife.org/event/wesleys-annual-fall-festival/
LOCATION:Wesley United Methodist Church\, 500 E. McLeod St.\, Ironwood\, MI\, 49938
CATEGORIES:Community Events
ATTACH;FMTTYPE=image/png:https://felivelife.org/wp-content/uploads/2025/08/Annual-Fall-Festival.png
ORGANIZER;CN="Wesley United Methodist Church":MAILTO:ironwoodumc@gmail.com
END:VEVENT
BEGIN:VEVENT
DTSTART;TZID=America/Chicago:20250726T180000
DTEND;TZID=America/Chicago:20250726T230000
DTSTAMP:20260425T085714
CREATED:20250724T121009Z
LAST-MODIFIED:20250724T121009Z
UID:10006480-1753552800-1753570800@felivelife.org
SUMMARY:FREE Movie Night
DESCRIPTION:Saturday\, July 26th\, 6:30pm at Wesley United Methodist Church in Ironwood\, 500 E McLeod Ave\, we will be showing “The Princess Bride” by Act III Communications.\n\nIt is a FREE movie on a big 180 inch (15 foot) screen with surround sound\, popcorn and a drink.\n\nPlease join us for a relaxed evening out and enjoy a great movie.\n\nWe have Movie Night at the Methodist Church but it is only to have a good time.\n\nWe only wanted to provide the community with something for the family to do\, or as just a date night as an alternative on a Saturday evening.\n\nSee you at 6 PM on Saturday\, July 26th.
URL:https://felivelife.org/event/free-movie-night/
LOCATION:Wesley United Methodist Church\, 500 E. McLeod St.\, Ironwood\, MI\, 49938
CATEGORIES:Community Events,Entertainment
ATTACH;FMTTYPE=image/png:https://felivelife.org/wp-content/uploads/2025/07/Saturday-July-26th.png
ORGANIZER;CN="Wesley United Methodist Church":MAILTO:ironwoodumc@gmail.com
END:VEVENT
BEGIN:VEVENT
DTSTART;TZID=America/Chicago:20250725T170000
DTEND;TZID=America/Chicago:20250725T200000
DTSTAMP:20260425T085714
CREATED:20250716T131044Z
LAST-MODIFIED:20250716T131906Z
UID:10006405-1753462800-1753473600@felivelife.org
SUMMARY:Spaghetti Dinner Fundraiser
DESCRIPTION:Join the Iron Range GSA in supporting the Trevor Project! \n  \nOn Friday\, July 25th\, we will be hosting a spaghetti dinner fundraiser at the Ironwood Wesley United Methodist Church in Ironwood\, MI\, from 5 PM to 8 PM. \n  \n60% of all profits made at this event will be donated to the Trevor Project. \n  \nFor the main dish\, we will be serving classic spaghetti or a choice of bowtie pasta in butter sauce for the kiddos. Sides will include homemade meatballs\, garlic bread\, and cake\, along with drinks. \nPlates have a minimum recommended donation of $10. 12 and under eat free! \nThe Trevor Project is a non-profit organization dedicated to making the world a better place for queer youth. They provide essential services such as their 24/7 crisis hotline and crucial research about mental health. The Trevor Project\, alongside many other valuable organizations\, is expected to be defunded by the government by July 17th. Our donations are needed now more than ever to ensure they can continue on their mission. To learn more about the Trevor Project and their mission\, please check out their website. \n 
URL:https://felivelife.org/event/spaghetti-dinner-fundraiser-2/
LOCATION:Wesley United Methodist Church\, 500 E. McLeod St.\, Ironwood\, MI\, 49938
CATEGORIES:Community Events,Fundraising
ATTACH;FMTTYPE=image/png:https://felivelife.org/wp-content/uploads/2025/07/Spaghetti-dinner-fundraiser.png
END:VEVENT
BEGIN:VEVENT
DTSTART;TZID=America/Chicago:20250718T130000
DTEND;TZID=America/Chicago:20250718T150000
DTSTAMP:20260425T085714
CREATED:20250629T125706Z
LAST-MODIFIED:20250629T125706Z
UID:10005754-1752843600-1752850800@felivelife.org
SUMMARY:Wesley Methodist Pie Social
DESCRIPTION:Wesley United Methodist is hosting a pie social and you’re invited! \nFriday\, July 18th from 1 – 3 pm there will be pies of all kinds\, plus coffee\, iced tea\, and juice. \nGather in the basement Fellowship Hall of this historic Ironwood Church Building for the ultimate in old-time church summer pie socials!
URL:https://felivelife.org/event/wesley-methodist-pie-social/
LOCATION:Wesley United Methodist Church\, 500 E. McLeod St.\, Ironwood\, MI\, 49938
CATEGORIES:Community Events
ATTACH;FMTTYPE=image/jpeg:https://felivelife.org/wp-content/uploads/2025/06/pie-social-2.jpg
ORGANIZER;CN="Wesley United Methodist Church":MAILTO:ironwoodumc@gmail.com
END:VEVENT
END:VCALENDAR